BEGIN:VCALENDAR
VERSION:2.0
PRODID:-//ChamberMaster//Event Calendar 2.0//EN
METHOD:PUBLISH
X-PUBLISHED-TTL:P3D
REFRESH-INTERVAL:P3D
CALSCALE:GREGORIAN
BEGIN:VEVENT
DTSTART:20201212T150000Z
DTEND:20201212T180000Z
X-MICROSOFT-CDO-ALLDAYEVENT:FALSE
SUMMARY:5K Winter Blues Run/Walk
DESCRIPTION:Shake off the Winter Blues!  December 12.    Join us for a 5K Run/Walk at Sandy Watkins Park in Henderson County.  \n\nRegistrants will receive a neck gaiter and a participation bag. \n\nRace will be Chip Timed!   Awards will be presented for overall male\, female and youth winner\n\n  Thank you to our presenting sponsor:  FIELD & MAIN BANK!
X-ALT-DESC;FMTTYPE=text/html:Shake off the Winter Blues!&nbsp\; December 12.&nbsp\; &nbsp\; Join us for a 5K Run/Walk at Sandy Watkins Park in Henderson County.&nbsp\;&nbsp\;<br />\nRegistrants will receive a neck gaiter and a participation bag.&nbsp\;<br />\nRace will be Chip Timed!&nbsp\; &nbsp\;Awards will be presented for overall male\, female and youth winner<br />\n&nbsp\; Thank you to our presenting sponsor:&nbsp\; FIELD &amp\; MAIN BANK!&nbsp\;
LOCATION:Sandy Watkins Park in beautiful Henderson County. Paved and Gravel trail run around 4 beautiful lakes and rolling countryside. 16214 Highway 351
UID:e.1514.572722
SEQUENCE:3
DTSTAMP:20260423T130258Z
URL:https://business.hendersonkychamber.com/events/details/5k-winter-blues-run-walk-572722
END:VEVENT

END:VCALENDAR
