BEGIN:VCALENDAR
VERSION:2.0
PRODID:-//ChamberMaster//Event Calendar 2.0//EN
METHOD:PUBLISH
X-PUBLISHED-TTL:P3D
REFRESH-INTERVAL:P3D
CALSCALE:GREGORIAN
BEGIN:VEVENT
DTSTART:20220317T213000Z
DTEND:20220317T230000Z
X-MICROSOFT-CDO-ALLDAYEVENT:FALSE
SUMMARY:After Hours Social Networking
DESCRIPTION:Chamber After Hours \n\nThursday\, March 17\n\nRookies \n\nRSVP to: donna@hendersonkychamber.com \n\nSponsor:  Evansville Teachers Federal Credit Union
X-ALT-DESC;FMTTYPE=text/html:Chamber After Hours&nbsp\;<br />\nThursday\, March 17<br />\nRookies&nbsp\;<br />\nRSVP to: donna@hendersonkychamber.com&nbsp\;<br />\nSponsor:&nbsp\; Evansville Teachers Federal Credit Union&nbsp\;
LOCATION:Rookies
UID:e.1514.572829
SEQUENCE:3
DTSTAMP:20260422T074947Z
URL:https://business.hendersonkychamber.com/events/details/after-hours-social-networking-572829
END:VEVENT

END:VCALENDAR
