BEGIN:VCALENDAR
VERSION:2.0
PRODID:-//ChamberMaster//Event Calendar 2.0//EN
METHOD:PUBLISH
X-PUBLISHED-TTL:P3D
REFRESH-INTERVAL:P3D
CALSCALE:GREGORIAN
BEGIN:VEVENT
DTSTART:20220303T133000Z
DTEND:20220303T144500Z
X-MICROSOFT-CDO-ALLDAYEVENT:FALSE
SUMMARY:Agricultural Appreciation Breakfast 2022
DESCRIPTION:Agricultural Appreciation Breakfast \n\nThursday\, March 3\n\n7:30 a.m.\n\nArchery Center - 377 Garden Mile Road\, Henderson\, KY
X-ALT-DESC;FMTTYPE=text/html:Agricultural Appreciation Breakfast&nbsp\;<br />\nThursday\, March 3<br />\n7:30 a.m.<br />\nArchery Center - 377 Garden Mile Road\, Henderson\, KY
LOCATION:
UID:e.1514.572822
SEQUENCE:3
DTSTAMP:20260422T075318Z
URL:https://business.hendersonkychamber.com/events/details/agricultural-appreciation-breakfast-2022-572822
END:VEVENT

END:VCALENDAR
