BEGIN:VCALENDAR
VERSION:2.0
PRODID:-//ChamberMaster//Event Calendar 2.0//EN
METHOD:PUBLISH
X-PUBLISHED-TTL:P3D
REFRESH-INTERVAL:P3D
CALSCALE:GREGORIAN
BEGIN:VEVENT
DTSTART:20200305T131500Z
DTEND:20200305T143000Z
X-MICROSOFT-CDO-ALLDAYEVENT:FALSE
SUMMARY:Agriculture Appreciation Breakfast 2020
DESCRIPTION:Agriculture Appreciation Breakfast\n\nThursday\, March 5\n\n7:15-8:30 a.m.\n\nArchery Center
X-ALT-DESC;FMTTYPE=text/html:Agriculture Appreciation Breakfast<br />\nThursday\, March 5<br />\n7:15-8:30 a.m.<br />\nArchery Center
LOCATION:
UID:e.1514.572440
SEQUENCE:3
DTSTAMP:20260425T231628Z
URL:https://business.hendersonkychamber.com/events/details/agriculture-appreciation-breakfast-2020-572440
END:VEVENT

END:VCALENDAR
