BEGIN:VCALENDAR
VERSION:2.0
PRODID:-//ChamberMaster//Event Calendar 2.0//EN
METHOD:PUBLISH
X-PUBLISHED-TTL:P3D
REFRESH-INTERVAL:P3D
CALSCALE:GREGORIAN
BEGIN:VEVENT
DTSTART:20200812T170000Z
DTEND:20200812T180000Z
X-MICROSOFT-CDO-ALLDAYEVENT:FALSE
SUMMARY:Brown Bag Lunch and Learn
DESCRIPTION:Brown Bag Lunch and Learn:  Amerlight/ZEB Solar \n\nWednesday\, August 12\n\n12:15-1:00 p.m.\n\nTopic:  Cost Saving Applications for Solar\, Battery and LED Lighting within HMPL and KU \n\nThe presentation will be in person at the Henderson Chamber of Commerce (114 N. Main Street) or virtually.  Feel free to join either way.
X-ALT-DESC;FMTTYPE=text/html:Brown Bag Lunch and Learn:&nbsp\; Amerlight/ZEB Solar&nbsp\;<br />\nWednesday\, August 12<br />\n12:15-1:00 p.m.<br />\nTopic:&nbsp\; <span style="color: rgb(0\, 0\, 0)\; font-family: Calibri\, Arial\, Helvetica\, sans-serif\; font-size: 16px\;">Cost Saving Applications for Solar\, Battery and LED Lighting within HMPL and KU&nbsp\;</span><br />\nThe presentation will be in person at the Henderson Chamber of Commerce (114 N. Main Street) or virtually.&nbsp\; Feel free to join either way.<br />\n&nbsp\;
LOCATION:114 North Main St. Henderson\, KY Limited to 10 persons for in person attendance
UID:e.1514.572713
SEQUENCE:3
DTSTAMP:20260425T162120Z
URL:https://business.hendersonkychamber.com/events/details/brown-bag-lunch-and-learn-572713
END:VEVENT

END:VCALENDAR
