BEGIN:VCALENDAR
VERSION:2.0
PRODID:-//ChamberMaster//Event Calendar 2.0//EN
METHOD:PUBLISH
X-PUBLISHED-TTL:P3D
REFRESH-INTERVAL:P3D
CALSCALE:GREGORIAN
BEGIN:VEVENT
DTSTART:20200902T170000Z
DTEND:20200902T180000Z
X-MICROSOFT-CDO-ALLDAYEVENT:FALSE
SUMMARY:Brown Bag Lunch and Learn AME Cybersecurity
DESCRIPTION:Join us for another Lunch and Learn on 9/2/2020\n\nThe AME Group will present on Cybersecurity: Best Practices for Businesses.
X-ALT-DESC;FMTTYPE=text/html:Join us for another Lunch and Learn on 9/2/2020<br />\nThe AME Group will present on Cybersecurity: Best Practices for Businesses.<br />\n&nbsp\;
LOCATION:This will be virtual and in person at 114 N. Main St. Henderson\, KY. 42420 Brown Bag - Cybersecurity - What Businessses need to know Wed\, Sep 2\, 2020 12:00 PM - 1:30 PM (CDT) Please join my meeting from your computer\, tablet or smartphone. https://global.gotomeeting.com/join/910651101 You can also dial in using your phone. United States: +1 (408) 650-3123 Access Code: 910-651-101 New to GoToMeeting? Get the app now and be ready when your first meeting starts: https://global.gotomeeting.com/install/910651101
UID:e.1514.572716
SEQUENCE:3
DTSTAMP:20260425T131409Z
URL:https://business.hendersonkychamber.com/events/details/brown-bag-lunch-and-learn-ame-cybersecurity-572716
END:VEVENT

END:VCALENDAR
