BEGIN:VCALENDAR
VERSION:2.0
PRODID:-//ChamberMaster//Event Calendar 2.0//EN
METHOD:PUBLISH
X-PUBLISHED-TTL:P3D
REFRESH-INTERVAL:P3D
CALSCALE:GREGORIAN
BEGIN:VEVENT
DTSTART:20210922T170000Z
DTEND:20210922T180000Z
X-MICROSOFT-CDO-ALLDAYEVENT:FALSE
SUMMARY:Brown Bag Lunch and Learn - Five Money Questions for Women
DESCRIPTION:Brown Bag Lunch and Learn:  Five Money Questions for Women \n\nWednesday\, September 22nd  \n\n12:00-1:00 p.m.\n\nTopic:  Shares perspective on a process women can use to identify financial goals and set a strategy\; discusses how a woman's strategy may be significantly different than a spouse or other person because of a longer life span\; visits whether your financial strategy will fit your lifestyle and needs
X-ALT-DESC;FMTTYPE=text/html:Brown Bag Lunch and Learn:&nbsp\; Five Money Questions for Women&nbsp\;<br />\nWednesday\, September 22nd&nbsp\;&nbsp\;<br />\n12:00-1:00 p.m.<br />\nTopic:&nbsp\;&nbsp\;<span style="color:#212121\;">Shares perspective on a process women can use to identify financial goals and set a strategy\; discusses how a woman&#39\;s strategy may be significantly different than a spouse or other person because of a longer life span\; visits whether your financial strategy will fit your lifestyle and needs</span><br />\n<br />\n<br />\n&nbsp\;
LOCATION:Henderson Chamber of Commerce Conference Room 114 North Main St. Henderson\, KY 42420
UID:e.1514.572797
SEQUENCE:3
DTSTAMP:20260424T190809Z
URL:https://business.hendersonkychamber.com/events/details/brown-bag-lunch-and-learn-five-money-questions-for-women-572797
END:VEVENT

END:VCALENDAR
