BEGIN:VCALENDAR
VERSION:2.0
PRODID:-//ChamberMaster//Event Calendar 2.0//EN
METHOD:PUBLISH
X-PUBLISHED-TTL:P3D
REFRESH-INTERVAL:P3D
CALSCALE:GREGORIAN
BEGIN:VEVENT
DTSTART:20200923T170000Z
DTEND:20200923T180000Z
X-MICROSOFT-CDO-ALLDAYEVENT:FALSE
SUMMARY:Brown Bag Lunch and Learn - Future of the Electric Power Industry
DESCRIPTION:Brown Bag Lunch and Learn:  Future of the Electric Power Industry\n\n\n\nThe presentation will be in person at the Henderson Chamber of Commerce (114 N. Main Street) or virtually.  Feel free to join either way.
X-ALT-DESC;FMTTYPE=text/html:Brown Bag Lunch and Learn:&nbsp\; <span style="color: rgb(33\, 33\, 33)\; font-family: Calibri\, sans-serif\; font-size: 14.6667px\;">Future of the Electric Power Industry</span><br />\n<br />\nThe presentation will be in person at the Henderson Chamber of Commerce (114 N. Main Street) or virtually.&nbsp\; Feel free to join either way.<br />\n&nbsp\;
LOCATION:114 North Main St. Henderson\, KY Limited to 10 persons for in person attendance
UID:e.1514.572718
SEQUENCE:3
DTSTAMP:20260425T131958Z
URL:https://business.hendersonkychamber.com/events/details/brown-bag-lunch-and-learn-future-of-the-electric-power-industry-572718
END:VEVENT

END:VCALENDAR
