BEGIN:VCALENDAR
VERSION:2.0
PRODID:-//ChamberMaster//Event Calendar 2.0//EN
METHOD:PUBLISH
X-PUBLISHED-TTL:P3D
REFRESH-INTERVAL:P3D
CALSCALE:GREGORIAN
BEGIN:VEVENT
DTSTART:20210915T170000Z
DTEND:20210915T180000Z
X-MICROSOFT-CDO-ALLDAYEVENT:FALSE
SUMMARY:Brown Bag Lunch and Learn - Outsmart the Scammers
DESCRIPTION:Brown Bag Lunch and Learn:  Outsmart the Scammers \n\nWednesday\, September 15th \n\n12:00-1:00 p.m.\n\nTopic:  Steps you can take to outsmart the scammers\; how to spot certain red flags\, resources you can turn to in the event you or a loved one is targeted\, and steps you can take to help protect yourself and a loved one.
X-ALT-DESC;FMTTYPE=text/html:Brown Bag Lunch and Learn:&nbsp\; Outsmart the Scammers&nbsp\;<br />\nWednesday\, September 15th&nbsp\;<br />\n12:00-1:00 p.m.<br />\nTopic:&nbsp\; <font color="#000000" face="Calibri\, Arial\, Helvetica\, sans-serif"><span style="font-size: 16px\;">Steps you can take to outsmart the scammers\; how to spot certain red flags\, resources you can turn to in the event you or a loved one is targeted\, and steps you can take to help protect yourself and a loved one.&nbsp\;</span></font><br />\n<br />\n&nbsp\;
LOCATION:Henderson Chamber of Commerce Conference Room 114 North Main St. Henderson\, KY 42420
UID:e.1514.572796
SEQUENCE:3
DTSTAMP:20260424T172922Z
URL:https://business.hendersonkychamber.com/events/details/brown-bag-lunch-and-learn-outsmart-the-scammers-572796
END:VEVENT

END:VCALENDAR
