BEGIN:VCALENDAR
VERSION:2.0
PRODID:-//ChamberMaster//Event Calendar 2.0//EN
METHOD:PUBLISH
X-PUBLISHED-TTL:P3D
REFRESH-INTERVAL:P3D
CALSCALE:GREGORIAN
BEGIN:VEVENT
DTSTART:20210929T170000Z
DTEND:20210929T180000Z
X-MICROSOFT-CDO-ALLDAYEVENT:FALSE
SUMMARY:Brown Bag Lunch and Learn - Rules of the Road
DESCRIPTION:Brown Bag Lunch and Learn: Rules of the Road \n\nWednesday\, September 29th\n\n12:00-1:00 p.m.\n\nTopic: Teaches fundamental concepts of investing and potential strategies to help build wealth\; discusses the most common investing mistakes and how to avoid them\; investing strategies to help reach your long-term goals\, and what you can do now to prepare for retirement.
X-ALT-DESC;FMTTYPE=text/html:Brown Bag Lunch and Learn: Rules of the Road&nbsp\;<br />\nWednesday\, September 29th<br />\n12:00-1:00 p.m.<br />\nTopic: T<span style="color:#212121\;"><span style="font-family:calibri\,sans-serif\;"><span style="font-size:11.0pt\;">eaches fundamental concepts of investing and potential strategies to help build wealth\; discusses the most common investing mistakes and how to avoid them\; investing strategies to help reach your long-term goals\, and what you can do now to prepare for retirement.</span></span></span>
LOCATION:Henderson Chamber of Commerce Conference Room 114 North Main St. Henderson\, KY 42420
UID:e.1514.572798
SEQUENCE:3
DTSTAMP:20260424T190456Z
URL:https://business.hendersonkychamber.com/events/details/brown-bag-lunch-and-learn-rules-of-the-road-572798
END:VEVENT

END:VCALENDAR
