BEGIN:VCALENDAR
VERSION:2.0
PRODID:-//ChamberMaster//Event Calendar 2.0//EN
METHOD:PUBLISH
X-PUBLISHED-TTL:P3D
REFRESH-INTERVAL:P3D
CALSCALE:GREGORIAN
BEGIN:VEVENT
DTSTART:20200205T180000Z
DTEND:20200205T190000Z
X-MICROSOFT-CDO-ALLDAYEVENT:FALSE
SUMMARY:Brown Bag: Tax Information 101
DESCRIPTION:Brown Bag:  Tax Information 101 - Kemper CPA\n\nWednesday\, February 5\n\nNoon\n\nChamber Training Room - 136 Second Street\, Suite 500\n\nRSVP:  hendersonkychamber.com or 270-826-7505
X-ALT-DESC;FMTTYPE=text/html:Brown Bag:&nbsp\; Tax Information 101 - Kemper CPA<br />\nWednesday\, February 5<br />\nNoon<br />\nChamber Training Room - 136 Second Street\, Suite 500<br />\nRSVP:&nbsp\; hendersonkychamber.com or 270-826-7505<br />\n<br />\n<br />\n<br />\n&nbsp\;
LOCATION:
UID:e.1514.572469
SEQUENCE:3
DTSTAMP:20260426T010817Z
URL:https://business.hendersonkychamber.com/events/details/brown-bag-tax-information-101-572469
END:VEVENT

END:VCALENDAR
