BEGIN:VCALENDAR
VERSION:2.0
PRODID:-//ChamberMaster//Event Calendar 2.0//EN
METHOD:PUBLISH
X-PUBLISHED-TTL:P3D
REFRESH-INTERVAL:P3D
CALSCALE:GREGORIAN
BEGIN:VEVENT
DTSTART:20200814T140000Z
DTEND:20200814T150000Z
X-MICROSOFT-CDO-ALLDAYEVENT:FALSE
SUMMARY:Caffeine and Quarantine Networking
DESCRIPTION:The Chamber Breakfast Club \n\nNOW Caffeine and Quarantine until Further Notice\n\nProfessional Networking Opportunity \n\n2nd Friday of each month
X-ALT-DESC;FMTTYPE=text/html:The Chamber Breakfast Club&nbsp\;<br />\nNOW <span style="color:#A52A2A\;"><u><strong>Caffeine and Quarantine</strong></u></span> until Further Notice<br />\nProfessional Networking Opportunity&nbsp\;<br />\n2nd Friday of each month
LOCATION:Virtual! Join Us Caffeine and Quarantine Networking Please join my meeting from your computer\, tablet or smartphone. https://global.gotomeeting.com/join/521147797 You can also dial in using your phone. United States: +1 (872) 240-3212 Access Code: 521-147-797 New to GoToMeeting? Get the app now and be ready when your first meeting starts: https://global.gotomeeting.com/install/521147797
UID:e.1514.572482
SEQUENCE:3
DTSTAMP:20260425T145103Z
URL:https://business.hendersonkychamber.com/events/details/caffeine-and-quarantine-networking-572482
END:VEVENT

END:VCALENDAR
