BEGIN:VCALENDAR
VERSION:2.0
PRODID:-//ChamberMaster//Event Calendar 2.0//EN
METHOD:PUBLISH
X-PUBLISHED-TTL:P3D
REFRESH-INTERVAL:P3D
CALSCALE:GREGORIAN
BEGIN:VEVENT
DTSTART:20201009T140000Z
DTEND:20201009T200000Z
X-MICROSOFT-CDO-ALLDAYEVENT:FALSE
SUMMARY:Chamber Blood Drive
DESCRIPTION:The Henderson Chamber of Commerce will host a Blood Drive with Red Cross in collaboration with UK Henderson Extension Service.  COVID Antibody testing will be done also.  Please register today to give!!
X-ALT-DESC;FMTTYPE=text/html:The Henderson Chamber of Commerce will host a Blood Drive with Red Cross in collaboration with UK Henderson Extension Service.&nbsp\; COVID Antibody testing will be done also.&nbsp\; Please register today to give!!
LOCATION:UK Henderson Extension Service Expo Center 3341 Highway 351 Henderson\, Ky 42420
UID:e.1514.572732
SEQUENCE:3
DTSTAMP:20260425T112445Z
URL:https://business.hendersonkychamber.com/events/details/chamber-blood-drive-572732
END:VEVENT

END:VCALENDAR
