BEGIN:VCALENDAR
VERSION:2.0
PRODID:-//ChamberMaster//Event Calendar 2.0//EN
METHOD:PUBLISH
X-PUBLISHED-TTL:P3D
REFRESH-INTERVAL:P3D
CALSCALE:GREGORIAN
BEGIN:VEVENT
DTSTART:20211103T130000Z
DTEND:20211103T140000Z
X-MICROSOFT-CDO-ALLDAYEVENT:FALSE
SUMMARY:Chamber Breakfast Club
DESCRIPTION:Chamber Breakfast Club \n\nWednesday\, November 3 at 8:00 a.m. \n\nHenderson County Public Library - Enter the Preston Family Foundation Annex thru the parking lot.  The networking event held on 2nd floor.   \n\nJoin us for our monthly networking!  Celebrating shop small.  \nSponsor:  Independence Bank
X-ALT-DESC;FMTTYPE=text/html:<span style="font-size:14px\;"><span style="color: rgb(51\, 51\, 51)\; font-family: arial\; background-color: rgb(255\, 255\, 255)\;">Chamber Breakfast Club&nbsp\;</span><br style="color: rgb(51\, 51\, 51)\; background-color: rgb(255\, 255\, 255)\; font-family: sans-serif\, Arial\, Verdana\, &quot\;Trebuchet MS&quot\;\; font-size: 13px\;" />\n<span style="color: rgb(51\, 51\, 51)\; font-family: arial\; background-color: rgb(255\, 255\, 255)\;">Wednesday\, November 3 at 8:00 a.m.&nbsp\;</span><br style="color: rgb(51\, 51\, 51)\; background-color: rgb(255\, 255\, 255)\; font-family: sans-serif\, Arial\, Verdana\, &quot\;Trebuchet MS&quot\;\; font-size: 13px\;" />\n<span style="color: rgb(51\, 51\, 51)\; font-family: arial\; background-color: rgb(255\, 255\, 255)\;">Henderson County Public Library -&nbsp\;</span><em style="color: rgb(51\, 51\, 51)\; font-family: arial\; font-size: 14px\; background-color: rgb(255\, 255\, 255)\;">Enter the Preston Family Foundation Annex thru the parking lot.&nbsp\; The networking event held on 2nd floor.&nbsp\; &nbsp\;</em><br style="color: rgb(51\, 51\, 51)\; background-color: rgb(255\, 255\, 255)\; font-family: sans-serif\, Arial\, Verdana\, &quot\;Trebuchet MS&quot\;\; font-size: 13px\;" />\n<span style="color: rgb(51\, 51\, 51)\; font-family: arial\; background-color: rgb(255\, 255\, 255)\;">Join us for our monthly networking!&nbsp\; Celebrating shop small.&nbsp\;&nbsp\;</span></span>\n<div><span style="font-size:14px\;">Sponsor:&nbsp\; Independence Bank</span></div>\n
LOCATION:
UID:e.1514.572810
SEQUENCE:3
DTSTAMP:20260424T135227Z
URL:https://business.hendersonkychamber.com/events/details/chamber-breakfast-club-572810
END:VEVENT

END:VCALENDAR
