BEGIN:VCALENDAR
VERSION:2.0
PRODID:-//ChamberMaster//Event Calendar 2.0//EN
METHOD:PUBLISH
X-PUBLISHED-TTL:P3D
REFRESH-INTERVAL:P3D
CALSCALE:GREGORIAN
BEGIN:VEVENT
DTSTART:20220112T140000Z
DTEND:20220112T150000Z
X-MICROSOFT-CDO-ALLDAYEVENT:FALSE
SUMMARY:Chamber Breakfast Club - Networking
DESCRIPTION:Chamber Breakfast Club\n\nWednesday\, January 12\n\n8:00 a.m.\n\nPittsburg Tank & Tower Event Room B - Henderson County Public Library\n\nSponsor:  Evansville Teachers Federal Credit Union\nRSVP by Noon\, January 11th
X-ALT-DESC;FMTTYPE=text/html:Chamber Breakfast Club<br />\nWednesday\, January 12<br />\n8:00 a.m.<br />\nPittsburg Tank &amp\; Tower Event Room B - Henderson County Public Library<br />\nSponsor:&nbsp\; Evansville Teachers Federal Credit Union\n<div>RSVP by Noon\, January 11th&nbsp\;</div>\n
LOCATION:
UID:e.1514.572820
SEQUENCE:3
DTSTAMP:20260424T101835Z
URL:https://business.hendersonkychamber.com/events/details/chamber-breakfast-club-networking-572820
END:VEVENT

END:VCALENDAR
