BEGIN:VCALENDAR
VERSION:2.0
PRODID:-//ChamberMaster//Event Calendar 2.0//EN
METHOD:PUBLISH
X-PUBLISHED-TTL:P3D
REFRESH-INTERVAL:P3D
CALSCALE:GREGORIAN
BEGIN:VEVENT
DTSTART:20200609T203000Z
DTEND:20200609T210000Z
X-MICROSOFT-CDO-ALLDAYEVENT:FALSE
SUMMARY:2020 Chamber Candidates Forum
DESCRIPTION:Chamber Candidates Forum for Primary Election on June 23\, 2020.  City Commissioners candidates will have an opportunity to answer questions and give a statement of their goals while in office if elected. \n\n	\n		\n			Date\n			Candidate\n		\n		\n			May 29\n			Kevin Knight\n		\n		\n			June 1\n			Austin Vowels\n		\n		\n			June 2\n			Brad Staton\n		\n		\n			June 3\n			Robert Pruitt\n		\n		\n			June 4\n			Rodney Thomas\n		\n		\n			June 5\n			Becky Brown\n		\n		\n			June 8\n\n			June 9 \n\n			June 10\n			Tom Davis      \n\n			Velvet Dowdy   \n\n			Mike Broihier
X-ALT-DESC;FMTTYPE=text/html:Chamber Candidates Forum for Primary Election on June 23\, 2020.&nbsp\; City Commissioners candidates will have an opportunity to answer questions and give a statement of their goals while in office if elected.&nbsp\;\n<table border="1" cellpadding="0" cellspacing="0" style="border-collapse:collapse\;border:none\;">\n	<tbody>\n		<tr>\n			<td style="width:121px\;border:1pt solid windowtext\;padding:0in 5.4pt\;vertical-align:top\;"><strong><span style="font-family:arial\,sans-serif\;">Date</span></strong></td>\n			<td style="width:174px\;border-top:1pt solid windowtext\;border-right:1pt solid windowtext\;border-bottom:1pt solid windowtext\;border-image:initial\;border-left:none\;padding:0in 5.4pt\;vertical-align:top\;"><strong><span style="font-family:arial\,sans-serif\;">Candidate</span></strong></td>\n		</tr>\n		<tr>\n			<td style="width:121px\;border-right:1pt solid windowtext\;border-bottom:1pt solid windowtext\;border-left:1pt solid windowtext\;border-image:initial\;border-top:none\;padding:0in 5.4pt\;vertical-align:top\;"><span style="font-family:arial\,sans-serif\;">May 29</span></td>\n			<td style="width:174px\;border-top:none\;border-left:none\;border-bottom:1pt solid windowtext\;border-right:1pt solid windowtext\;padding:0in 5.4pt\;vertical-align:top\;"><span style="font-family:arial\,sans-serif\;">Kevin Knight</span></td>\n		</tr>\n		<tr>\n			<td style="width:121px\;border-right:1pt solid windowtext\;border-bottom:1pt solid windowtext\;border-left:1pt solid windowtext\;border-image:initial\;border-top:none\;padding:0in 5.4pt\;vertical-align:top\;"><span style="font-family:arial\,sans-serif\;">June 1</span></td>\n			<td style="width:174px\;border-top:none\;border-left:none\;border-bottom:1pt solid windowtext\;border-right:1pt solid windowtext\;padding:0in 5.4pt\;vertical-align:top\;"><span style="font-family:arial\,sans-serif\;">Austin Vowels</span></td>\n		</tr>\n		<tr>\n			<td style="width:121px\;border-right:1pt solid windowtext\;border-bottom:1pt solid windowtext\;border-left:1pt solid windowtext\;border-image:initial\;border-top:none\;padding:0in 5.4pt\;vertical-align:top\;"><span style="font-family:arial\,sans-serif\;">June 2</span></td>\n			<td style="width:174px\;border-top:none\;border-left:none\;border-bottom:1pt solid windowtext\;border-right:1pt solid windowtext\;padding:0in 5.4pt\;vertical-align:top\;"><span style="font-family:arial\,sans-serif\;">Brad Staton</span></td>\n		</tr>\n		<tr>\n			<td style="width:121px\;border-right:1pt solid windowtext\;border-bottom:1pt solid windowtext\;border-left:1pt solid windowtext\;border-image:initial\;border-top:none\;padding:0in 5.4pt\;vertical-align:top\;"><span style="font-family:arial\,sans-serif\;">June 3</span></td>\n			<td style="width:174px\;border-top:none\;border-left:none\;border-bottom:1pt solid windowtext\;border-right:1pt solid windowtext\;padding:0in 5.4pt\;vertical-align:top\;"><span style="font-family:arial\,sans-serif\;">Robert Pruitt</span></td>\n		</tr>\n		<tr>\n			<td style="width:121px\;border-right:1pt solid windowtext\;border-bottom:1pt solid windowtext\;border-left:1pt solid windowtext\;border-image:initial\;border-top:none\;padding:0in 5.4pt\;vertical-align:top\;"><span style="font-family:arial\,sans-serif\;">June 4</span></td>\n			<td style="width:174px\;border-top:none\;border-left:none\;border-bottom:1pt solid windowtext\;border-right:1pt solid windowtext\;padding:0in 5.4pt\;vertical-align:top\;"><span style="font-family:arial\,sans-serif\;">Rodney Thomas</span></td>\n		</tr>\n		<tr>\n			<td style="width:121px\;border-right:1pt solid windowtext\;border-bottom:1pt solid windowtext\;border-left:1pt solid windowtext\;border-image:initial\;border-top:none\;padding:0in 5.4pt\;vertical-align:top\;"><span style="font-family:arial\,sans-serif\;">June 5</span></td>\n			<td style="width:174px\;border-top:none\;border-left:none\;border-bottom:1pt solid windowtext\;border-right:1pt solid windowtext\;padding:0in 5.4pt\;vertical-align:top\;"><span style="font-family:arial\,sans-serif\;">Becky Brown</span></td>\n		</tr>\n		<tr>\n			<td style="width:121px\;border-right:1pt solid windowtext\;border-bottom:1pt solid windowtext\;border-left:1pt solid windowtext\;border-image:initial\;border-top:none\;padding:0in 5.4pt\;vertical-align:top\;"><span style="font-family:arial\,sans-serif\;">June 8<br />\n			June 9&nbsp\;<br />\n			June 10</span></td>\n			<td style="width:174px\;border-top:none\;border-left:none\;border-bottom:1pt solid windowtext\;border-right:1pt solid windowtext\;padding:0in 5.4pt\;vertical-align:top\;"><span style="font-family:arial\,sans-serif\;">Tom Davis</span>&nbsp\;&nbsp\;&nbsp\;&nbsp\;&nbsp\;&nbsp\;<br />\n			Velvet Dowdy&nbsp\;&nbsp\;&nbsp\;<br />\n			Mike Broihier&nbsp\; &nbsp\; &nbsp\; &nbsp\; &nbsp\; &nbsp\; &nbsp\;&nbsp\;</td>\n		</tr>\n	</tbody>\n</table>\n
LOCATION:Chamber Candidate Forum Please join my meeting from your computer\, tablet or smartphone. https://global.gotomeeting.com/join/659828653 You can also dial in using your phone. United States: +1 (571) 317-3122 Access Code: 659-828-653 New to GoToMeeting? Get the app now and be ready when your first meeting starts: https://global.gotomeeting.com/install/659828653
UID:e.1514.572703
SEQUENCE:3
DTSTAMP:20260425T182150Z
URL:https://business.hendersonkychamber.com/events/details/chamber-candidates-forum-06-09-2020-572703
END:VEVENT

END:VCALENDAR
