BEGIN:VCALENDAR
VERSION:2.0
PRODID:-//ChamberMaster//Event Calendar 2.0//EN
METHOD:PUBLISH
X-PUBLISHED-TTL:P3D
REFRESH-INTERVAL:P3D
CALSCALE:GREGORIAN
BEGIN:VEVENT
DTSTART:20200923T000000Z
DTEND:20200923T003000Z
X-MICROSOFT-CDO-ALLDAYEVENT:FALSE
SUMMARY:Chamber Candidates Forum
DESCRIPTION:Chamber Candidates Forum for General Election on November 3\, 2020. Candidates will have an opportunity to answer questions and give a statement of their goals while in office if elected.
X-ALT-DESC;FMTTYPE=text/html:Chamber Candidates Forum for General Election on November 3\, 2020. Candidates will have an opportunity to answer questions and give a statement of their goals while in office if elected.&nbsp\;
LOCATION:Candidate Forum Please join my meeting from your computer\, tablet or smartphone. https://global.gotomeeting.com/join/112959477 You can also dial in using your phone. United States: +1 (872) 240-3311 Access Code: 112-959-477 New to GoToMeeting? Get the app now and be ready when your first meeting starts: https://global.gotomeeting.com/install/112959477
UID:e.1514.572729
SEQUENCE:3
DTSTAMP:20260425T131556Z
URL:https://business.hendersonkychamber.com/events/details/chamber-candidates-forum-09-22-2020-572729
END:VEVENT

END:VCALENDAR
