BEGIN:VCALENDAR
VERSION:2.0
PRODID:-//ChamberMaster//Event Calendar 2.0//EN
METHOD:PUBLISH
X-PUBLISHED-TTL:P3D
REFRESH-INTERVAL:P3D
CALSCALE:GREGORIAN
BEGIN:VEVENT
DTSTART:20200421T230000Z
DTEND:20200421T233000Z
X-MICROSOFT-CDO-ALLDAYEVENT:FALSE
SUMMARY:Chamber Chat
DESCRIPTION:A collaborative effort between small businesses and the Henderson Chamber. Join us each day at 6 p.m. for helpful sessions on navigating the virus.
X-ALT-DESC;FMTTYPE=text/html:<span style="color: rgb(0\, 0\, 0)\; font-family: arial\, helvetica\, sans-serif\; font-size: 16px\;">A collaborative effort between small businesses and the Henderson Chamber.&nbsp\;Join us each day at 6 p.m. for helpful sessions on navigating the virus.&nbsp\;</span>
LOCATION:Chamber Chat Please join my meeting from your computer\, tablet or smartphone. https://global.gotomeeting.com/join/338252749 You can also dial in using your phone. United States: +1 (872) 240-3212 Access Code: 338-252-749 New to GoToMeeting? Get the app now and be ready when your first meeting starts: https://global.gotomeeting.com/install/338252749
UID:e.1514.572645
SEQUENCE:3
DTSTAMP:20260425T231423Z
URL:https://business.hendersonkychamber.com/events/details/chamber-chat-04-21-2020-572645
END:VEVENT

END:VCALENDAR
