BEGIN:VCALENDAR
VERSION:2.0
PRODID:-//ChamberMaster//Event Calendar 2.0//EN
METHOD:PUBLISH
X-PUBLISHED-TTL:P3D
REFRESH-INTERVAL:P3D
CALSCALE:GREGORIAN
BEGIN:VEVENT
DTSTART:20210423T160000Z
DTEND:20210424T000000Z
X-MICROSOFT-CDO-ALLDAYEVENT:FALSE
SUMMARY:Chamber Golf Classic 2021
DESCRIPTION:Sponsorship Options\n\nSAVE THE DATE \n\nThe Annual Henderson Chamber Golf Classic will be on April 23\, 2021 at the Henderson Country Club! Register now!\n\n\n\n\n\nSponsorships available! Contact Ellen Redding for opportunities and more information: ellen@hendersonkychamber.com
X-ALT-DESC;FMTTYPE=text/html:<a href="https://chambermaster.blob.core.windows.net/userfiles/UserFiles/chambers/1514/File/GolfSponsorFlyer219211.pdf">Sponsorship Options</a><br />\nSAVE THE DATE&nbsp\;<br />\nThe Annual Henderson Chamber Golf Classic will be on April 23\, 2021 at the Henderson Country Club! Register now!<br />\n<br />\n<br />\nSponsorships available! Contact Ellen Redding for opportunities and more information: ellen@hendersonkychamber.com
LOCATION:1030 Country Club Dr. Henderson\, KY 42420
UID:e.1514.572757
SEQUENCE:3
DTSTAMP:20260425T025109Z
URL:https://business.hendersonkychamber.com/events/details/chamber-golf-classic-2021-572757
END:VEVENT

END:VCALENDAR
