BEGIN:VCALENDAR
VERSION:2.0
PRODID:-//ChamberMaster//Event Calendar 2.0//EN
METHOD:PUBLISH
X-PUBLISHED-TTL:P3D
REFRESH-INTERVAL:P3D
CALSCALE:GREGORIAN
BEGIN:VEVENT
DTSTART:20220513T160000Z
DTEND:20220514T000000Z
X-MICROSOFT-CDO-ALLDAYEVENT:FALSE
SUMMARY:Chamber Golf Classic 2022
DESCRIPTION:Henderson Chamber Golf Classic\n\nPresented by Field & Main Bank\n\n\n\nFriday\, May 13\, 2022\n\nHenderson Country Club\n\n\n\nSponsorships available!\n\nView sponsorship options here  \n\n\n\nChamber Members: $575/foursome\n\nNon-members: $675/foursome
X-ALT-DESC;FMTTYPE=text/html:<p>Henderson Chamber Golf Classic<br />\nPresented by Field &amp\; Main Bank<br />\n<br />\nFriday\, May 13\, 2022<br />\nHenderson Country Club<br />\n<br />\n<strong>Sponsorships available!</strong><br />\n<a href="https://hendersonkychamber.com/images/2020-membership-documents/HendersonChamber_GolfClassic_Sponsorship.pdf">View sponsorship options here &gt\;</a><br />\n<br />\nChamber Members: $575/foursome<br />\nNon-members: $675/foursome</p>\n
LOCATION:1030 Country Club Dr. Henderson\, KY 42420
UID:e.1514.572834
SEQUENCE:3
DTSTAMP:20260422T042728Z
URL:https://business.hendersonkychamber.com/events/details/chamber-golf-classic-2022-572834
END:VEVENT

END:VCALENDAR
