BEGIN:VCALENDAR
VERSION:2.0
PRODID:-//ChamberMaster//Event Calendar 2.0//EN
METHOD:PUBLISH
X-PUBLISHED-TTL:P3D
REFRESH-INTERVAL:P3D
CALSCALE:GREGORIAN
BEGIN:VEVENT
DTSTART:20210512T171500Z
DTEND:20210512T174500Z
X-MICROSOFT-CDO-ALLDAYEVENT:FALSE
SUMMARY:Chamber Lunch and Learn - AFP Service and Impact on the Non Profit Community
DESCRIPTION:Chamber Lunch and Learn \n\nWednesday\, May 12th \n\n12:15-12:45 p.m.\n\nSpeaker: Chris Head\, Divisional Resource Development Director for The Salvation Army of Kentucky & Tennessee/President\, Association of Fundraising Professionals\, Greater Louisville Chapter\n\nTopic: AFP Service and Impact on the Non Profit Community \n\n\n\nChris Head is the Divisional Resource Development Director for The Salvation Army Kentucky Tennessee Division\, serving in this position for the past 6 years.  He has been employed in various nonprofit management roles since 2006 having experience with grass roots fundraising and large-scale organizations.  Chris is an AFP Greater Louisville Chapter board member for the past 4 years and currently serves as President of the chapter for 2021. \n\nChris is a native Louisvillian having attended St. Margaret May catholic grade school\, Trinity High School\, and the University of Louisville\, earning a Bachelors Degree in Sports Administration with a Minor in Communications.  He has continuing nonprofit education from Indiana University\, The Center on Philanthropy and North Carolina State University.  Prior to his nonprofit career\, Chris spent 16 years working for Kentucky State Parks in a variety of roles in Louisville and Frankfort.  He has served on numerous boards over the years including Association of Fundraising Professionals\, Kentucky Recreation & Parks Society\, and The Louisville Sports Commission to name a few.  Chris was named a Louisville Business First "Forty under Forty" Honoree.
X-ALT-DESC;FMTTYPE=text/html:Chamber Lunch and Learn&nbsp\;<br />\nWednesday\, May 12th&nbsp\;<br />\n12:15-12:45 p.m.<br />\nSpeaker: Chris Head\, Divisional Resource Development Director for The Salvation Army of Kentucky &amp\; Tennessee/President\, Association of Fundraising Professionals\, Greater Louisville Chapter<br />\nTopic: AFP Service and Impact on the Non Profit Community&nbsp\;<br />\n<br />\nChris Head is the Divisional Resource Development Director for The Salvation Army Kentucky Tennessee Division\, serving in this position for the past 6 years.&nbsp\; He has been employed in various nonprofit management roles since 2006 having experience with grass roots fundraising and large-scale organizations.&nbsp\; Chris is an AFP Greater Louisville Chapter board member for the past 4 years and currently serves as President of the chapter for 2021.&nbsp\;<br />\nChris is a native Louisvillian having attended St. Margaret May catholic grade school\, Trinity High School\, and the University of Louisville\, earning a Bachelors Degree in Sports Administration with a Minor in Communications.&nbsp\; He has continuing nonprofit education from Indiana University\, The Center on Philanthropy and North Carolina State University.&nbsp\; Prior to his nonprofit career\, Chris spent 16 years working for Kentucky State Parks in a variety of roles in Louisville and Frankfort.&nbsp\; He has served on numerous boards over the years including Association of Fundraising Professionals\, Kentucky Recreation &amp\; Parks Society\, and The Louisville Sports Commission to name a few.&nbsp\; Chris was named a Louisville Business First &ldquo\;Forty under Forty&rdquo\; Honoree.
LOCATION:Chamber Conversations Please join my meeting from your computer\, tablet or smartphone. https://global.gotomeeting.com/join/112959477 You can also dial in using your phone. United States: +1 (872) 240-3311 Access Code: 112-959-477 New to GoToMeeting? Get the app now and be ready when your first meeting starts: https://global.gotomeeting.com/install/112959477
UID:e.1514.572779
SEQUENCE:3
DTSTAMP:20260425T012656Z
URL:https://business.hendersonkychamber.com/events/details/chamber-lunch-and-learn-afp-service-and-impact-on-the-non-profit-community-572779
END:VEVENT

END:VCALENDAR
