BEGIN:VCALENDAR
VERSION:2.0
PRODID:-//ChamberMaster//Event Calendar 2.0//EN
METHOD:PUBLISH
X-PUBLISHED-TTL:P3D
REFRESH-INTERVAL:P3D
CALSCALE:GREGORIAN
BEGIN:VEVENT
DTSTART:20200206T233000Z
DTEND:20200207T020000Z
X-MICROSOFT-CDO-ALLDAYEVENT:FALSE
SUMMARY:Chamber of Commerce Annual Dinner 2020
DESCRIPTION:Chamber of Commerce Annual Dinner\n\nThursday\, February 6\, 2020\n\nHoly Name School\n\nGuest speaker:  Eric Ellis\, President and CEO of Integrity Development \n\nRSVP:  Online Registration
X-ALT-DESC;FMTTYPE=text/html:Chamber of Commerce Annual Dinner<br />\nThursday\, February 6\, 2020<br />\nHoly Name School<br />\nGuest speaker:&nbsp\; Eric Ellis\, President and CEO of Integrity Development&nbsp\;<br />\nRSVP:&nbsp\; Online Registration&nbsp\;
LOCATION:
UID:e.1514.572470
SEQUENCE:3
DTSTAMP:20260426T010157Z
URL:https://business.hendersonkychamber.com/events/details/chamber-of-commerce-annual-dinner-2020-572470
END:VEVENT

END:VCALENDAR
