BEGIN:VCALENDAR
VERSION:2.0
PRODID:-//ChamberMaster//Event Calendar 2.0//EN
METHOD:PUBLISH
X-PUBLISHED-TTL:P3D
REFRESH-INTERVAL:P3D
CALSCALE:GREGORIAN
BEGIN:VEVENT
DTSTART:20210823T230000Z
DTEND:20210824T010000Z
X-MICROSOFT-CDO-ALLDAYEVENT:FALSE
SUMMARY:Chamber of Commerce Annual Dinner 2021
DESCRIPTION:Henderson Chamber of Commerce Annual Dinner and Meeting \n\nMonday\, August 23\n\nREGISTRATION CLOSED. -
X-ALT-DESC;FMTTYPE=text/html:Henderson Chamber of Commerce Annual Dinner and Meeting&nbsp\;<br />\nMonday\, August 23<br />\nREGISTRATION CLOSED. -
LOCATION:Firedome and Lumberyard Event Center 512 Barrett Blvd Henderson\, KY 42420
UID:e.1514.572788
SEQUENCE:3
DTSTAMP:20260424T202844Z
URL:https://business.hendersonkychamber.com/events/details/chamber-of-commerce-annual-dinner-2021-572788
END:VEVENT

END:VCALENDAR
