BEGIN:VCALENDAR
VERSION:2.0
PRODID:-//ChamberMaster//Event Calendar 2.0//EN
METHOD:PUBLISH
X-PUBLISHED-TTL:P3D
REFRESH-INTERVAL:P3D
CALSCALE:GREGORIAN
BEGIN:VEVENT
DTSTART:20220411T223000Z
DTEND:20220412T010000Z
X-MICROSOFT-CDO-ALLDAYEVENT:FALSE
SUMMARY:Chamber of Commerce Annual Dinner 2022
DESCRIPTION:Chamber of Commerce Annual Dinner - SOLD OUT \n\nMonday\, April 11\n\nLocation: Firedome and Lumberyard Event Center\n\nGuest speaker:  Jim Gray\, Kentucky Secretary of Transportation  \n\nRSVP:  SOLD OUT
X-ALT-DESC;FMTTYPE=text/html:Chamber of Commerce Annual Dinner -&nbsp\;<strong><span style="color:#FF0000\;">SOLD OUT&nbsp\;</span></strong><br />\nMonday\, April 11<br />\nLocation: Firedome and Lumberyard Event Center<br />\nGuest speaker:&nbsp\; Jim Gray\, Kentucky Secretary of Transportation&nbsp\;&nbsp\;<br />\nRSVP:&nbsp\;&nbsp\;<strong><span style="color:#FF0000\;">SOLD OUT&nbsp\;</span></strong>
LOCATION:
UID:e.1514.572828
SEQUENCE:3
DTSTAMP:20260422T061202Z
URL:https://business.hendersonkychamber.com/events/details/chamber-of-commerce-annual-dinner-2022-572828
END:VEVENT

END:VCALENDAR
