BEGIN:VCALENDAR
VERSION:2.0
PRODID:-//ChamberMaster//Event Calendar 2.0//EN
METHOD:PUBLISH
X-PUBLISHED-TTL:P3D
REFRESH-INTERVAL:P3D
CALSCALE:GREGORIAN
BEGIN:VEVENT
DTSTART:20200929T190000Z
DTEND:20200929T193000Z
X-MICROSOFT-CDO-ALLDAYEVENT:FALSE
SUMMARY:Chamber Welcome: Just Plus/Just Chic
DESCRIPTION:Chamber Welcome: Just Plus/Just Chic\n\nNew members will be welcomed with a plaque and video to be placed on chamber website and social media.
X-ALT-DESC;FMTTYPE=text/html:Chamber Welcome: <a href="http://just plus henderson ky">Just Plus/Just Chic</a><br />\n<span style="display: inline !important\; float: none\; background-color: rgb(255\, 255\, 255)\; color: rgb(51\, 51\, 51)\; font-family: sans-serif\,Arial\,Verdana\,&quot\;Trebuchet MS&quot\;\; font-size: 13px\; font-style: italic\; font-variant: normal\; font-weight: 400\; letter-spacing: normal\; orphans: 2\; text-align: left\; text-decoration: none\; text-indent: 0px\; text-transform: none\; -webkit-text-stroke-width: 0px\; white-space: normal\; word-spacing: 0px\;">New members will be welcomed with a plaque and video to be placed on chamber website and social media.&nbsp\;</span>
LOCATION:
UID:e.1514.572739
SEQUENCE:3
DTSTAMP:20260425T145209Z
URL:https://business.hendersonkychamber.com/events/details/chamber-welcome-just-plus-just-chic-572739
END:VEVENT

END:VCALENDAR
