BEGIN:VCALENDAR
VERSION:2.0
PRODID:-//ChamberMaster//Event Calendar 2.0//EN
METHOD:PUBLISH
X-PUBLISHED-TTL:P3D
REFRESH-INTERVAL:P3D
CALSCALE:GREGORIAN
BEGIN:VEVENT
DTSTART:20200909T190000Z
DTEND:20200909T193000Z
X-MICROSOFT-CDO-ALLDAYEVENT:FALSE
SUMMARY:Chamber Welcome: Lighthouse Storage
DESCRIPTION:Chamber Welcome:  Lighthouse Storage \n\nWednesday\, September 9\n\n2:00 p.m.\n\nNew members will be welcomed with a plaque and video to be placed on chamber website and social media.
X-ALT-DESC;FMTTYPE=text/html:Chamber Welcome:&nbsp\; Lighthouse Storage&nbsp\;<br />\nWednesday\, September 9<br />\n2:00 p.m.<br />\n<em>New members will be welcomed with a plaque and video to be placed on chamber website and social media. &nbsp\;</em>
LOCATION:2429 U.S. Hwy. 60 East Henderson\, Kentucky
UID:e.1514.572734
SEQUENCE:3
DTSTAMP:20260425T131339Z
URL:https://business.hendersonkychamber.com/events/details/chamber-welcome-lighthouse-storage-572734
END:VEVENT

END:VCALENDAR
