BEGIN:VCALENDAR
VERSION:2.0
PRODID:-//ChamberMaster//Event Calendar 2.0//EN
METHOD:PUBLISH
X-PUBLISHED-TTL:P3D
REFRESH-INTERVAL:P3D
CALSCALE:GREGORIAN
BEGIN:VEVENT
DTSTART:20200915T190000Z
DTEND:20200915T193000Z
X-MICROSOFT-CDO-ALLDAYEVENT:FALSE
SUMMARY:Chamber Welcome: Tip Top Design
DESCRIPTION:Chamber Welcome:  Tip Top Design\n\n\n\nNew members will be welcomed with a plaque and video to be placed on chamber website and social media.
X-ALT-DESC;FMTTYPE=text/html:Chamber Welcome:&nbsp\; <a href="https://www.tiptopdesigncompany.com/">Tip Top Design</a><br />\n<br />\n<em>New members will be welcomed with a plaque and video to be placed on chamber website and social media.</em>
LOCATION:
UID:e.1514.572735
SEQUENCE:3
DTSTAMP:20260425T145109Z
URL:https://business.hendersonkychamber.com/events/details/chamber-welcome-tip-top-design-572735
END:VEVENT

END:VCALENDAR
