BEGIN:VCALENDAR
VERSION:2.0
PRODID:-//ChamberMaster//Event Calendar 2.0//EN
METHOD:PUBLISH
X-PUBLISHED-TTL:P3D
REFRESH-INTERVAL:P3D
CALSCALE:GREGORIAN
BEGIN:VEVENT
DTSTART:20220510T130000Z
DTEND:20220510T140000Z
X-MICROSOFT-CDO-ALLDAYEVENT:FALSE
SUMMARY:Coffee Talk with the Chamber
DESCRIPTION:Coffee Talk with the Chamber - Results for business with the Kentucky Chamber of Commerce\n\nTuesday\, May 10\n\n8:00 a.m. \n\nPittsburg Tank & Tower Event Room B - Henderson County Public Library\n\nSpeaker:  John Cox\, Director of Public Affairs at the Kentucky Chamber\n\nFREE for the community
X-ALT-DESC;FMTTYPE=text/html:Coffee Talk with the Chamber - Results for business with the Kentucky Chamber of Commerce<br />\nTuesday\, May 10<br />\n8:00 a.m.&nbsp\;<br />\nPittsburg Tank &amp\; Tower Event Room B - Henderson County Public Library<br />\nSpeaker:&nbsp\; John Cox\, Director of Public Affairs at the Kentucky Chamber<br />\nFREE for the community<br />\n&nbsp\;
LOCATION:
UID:e.1514.572844
SEQUENCE:3
DTSTAMP:20260422T042840Z
URL:https://business.hendersonkychamber.com/events/details/coffee-talk-with-the-chamber-572844
END:VEVENT

END:VCALENDAR
