BEGIN:VCALENDAR
VERSION:2.0
PRODID:-//ChamberMaster//Event Calendar 2.0//EN
METHOD:PUBLISH
X-PUBLISHED-TTL:P3D
REFRESH-INTERVAL:P3D
CALSCALE:GREGORIAN
BEGIN:VEVENT
DTSTART:20200612T133000Z
DTEND:20200612T140000Z
X-MICROSOFT-CDO-ALLDAYEVENT:FALSE
SUMMARY:Community Conversation
DESCRIPTION:Join us for a candid round table conversation with Henderson Human Rights Commissioner Charles Johnson\, Sheriff Ed Brady and Chief of Police Heath Cox.
X-ALT-DESC;FMTTYPE=text/html:Join us for a candid round table conversation with Henderson Human Rights Commissioner Charles Johnson\, Sheriff Ed Brady and Chief of Police Heath Cox.&nbsp\;&nbsp\;
LOCATION:Community Conversations Please join my meeting from your computer\, tablet or smartphone. https://global.gotomeeting.com/join/543196597 You can also dial in using your phone. United States: +1 (872) 240-3412 Access Code: 543-196-597 New to GoToMeeting? Get the app now and be ready when your first meeting starts: https://global.gotomeeting.com/install/543196597
UID:e.1514.572706
SEQUENCE:3
DTSTAMP:20260425T180116Z
URL:https://business.hendersonkychamber.com/events/details/community-conversation-572706
END:VEVENT

END:VCALENDAR
