BEGIN:VCALENDAR
VERSION:2.0
PRODID:-//ChamberMaster//Event Calendar 2.0//EN
METHOD:PUBLISH
X-PUBLISHED-TTL:P3D
REFRESH-INTERVAL:P3D
CALSCALE:GREGORIAN
BEGIN:VEVENT
DTSTART:20200625T210000Z
DTEND:20200625T213000Z
X-MICROSOFT-CDO-ALLDAYEVENT:FALSE
SUMMARY:Community Conversation
DESCRIPTION:Get the latest updates on the COVID situation in our region\, testing availability and data.\n\nJoin us for a round table discussion with Linda White\, CEO Methodist Health\, Clay Horton\, Director of GRDHD\, Chris Hilton\, First Care Clinics and Ellen Redding.
X-ALT-DESC;FMTTYPE=text/html:Get the latest updates on the COVID situation in our region\, testing availability and data.<br />\nJoin us for a round table discussion with Linda White\, CEO Methodist Health\, Clay Horton\, Director of GRDHD\, Chris Hilton\, First Care Clinics and Ellen Redding.
LOCATION:Community Conversations Please join my meeting from your computer\, tablet or smartphone. https://global.gotomeeting.com/join/543196597 You can also dial in using your phone. United States: +1 (872) 240-3412 Access Code: 543-196-597 New to GoToMeeting? Get the app now and be ready when your first meeting starts: https://global.gotomeeting.com/install/543196597
UID:e.1514.572711
SEQUENCE:3
DTSTAMP:20260425T180133Z
URL:https://business.hendersonkychamber.com/events/details/community-conversation-572711
END:VEVENT

END:VCALENDAR
