BEGIN:VCALENDAR
VERSION:2.0
PRODID:-//ChamberMaster//Event Calendar 2.0//EN
METHOD:PUBLISH
X-PUBLISHED-TTL:P3D
REFRESH-INTERVAL:P3D
CALSCALE:GREGORIAN
BEGIN:VEVENT
DTSTART:20200730T160000Z
DTEND:20200730T164500Z
X-MICROSOFT-CDO-ALLDAYEVENT:FALSE
SUMMARY:Community Conversation
DESCRIPTION:Join us for a candid round table conversation with Henderson Superintendents Marganna Stanley and and Judy Jenkins\, Principal of Holy Name School \n\nBack to School!   What will Fall 2020 Look Like?
X-ALT-DESC;FMTTYPE=text/html:Join us for a candid round table conversation with Henderson Superintendents Marganna Stanley and and Judy Jenkins\, Principal of Holy Name School&nbsp\;<br />\nBack to School!&nbsp\; &nbsp\;What will Fall 2020 Look Like?
LOCATION:Community Conversations Please join my meeting from your computer\, tablet or smartphone. https://global.gotomeeting.com/join/543196597 You can also dial in using your phone. United States: +1 (872) 240-3412 Access Code: 543-196-597 New to GoToMeeting? Get the app now and be ready when your first meeting starts: https://global.gotomeeting.com/install/543196597
UID:e.1514.572715
SEQUENCE:3
DTSTAMP:20260425T163825Z
URL:https://business.hendersonkychamber.com/events/details/community-conversation-572715
END:VEVENT

END:VCALENDAR
