BEGIN:VCALENDAR
VERSION:2.0
PRODID:-//ChamberMaster//Event Calendar 2.0//EN
METHOD:PUBLISH
X-PUBLISHED-TTL:P3D
REFRESH-INTERVAL:P3D
CALSCALE:GREGORIAN
BEGIN:VEVENT
DTSTART:20200824T160000Z
DTEND:20200824T170000Z
X-MICROSOFT-CDO-ALLDAYEVENT:FALSE
SUMMARY:Community Conversation
DESCRIPTION:Join us for a candid round table conversation with Alex Caudill\, Field Representative for Governor Beshear\, Abby Dixon\, Henderson  Tourist Commission\, Casey Todd\, Hometown Roots owner\, Katy Mussat\, Farmer and Frenchman owner\, with moderator\, Eric Gardner\, Chamber Government Affairs Chair
X-ALT-DESC;FMTTYPE=text/html:Join us for a candid round table conversation with Alex Caudill\, Field Representative for Governor Beshear\, Abby Dixon\, Henderson&nbsp\; Tourist Commission\, Casey Todd\, Hometown Roots owner\, Katy Mussat\, Farmer and Frenchman owner\, with moderator\, Eric Gardner\, Chamber Government Affairs Chair
LOCATION:Community Conversations Please join my meeting from your computer\, tablet or smartphone. https://global.gotomeeting.com/join/543196597 You can also dial in using your phone. United States: +1 (872) 240-3412 Access Code: 543-196-597 New to GoToMeeting? Get the app now and be ready when your first meeting starts: https://global.gotomeeting.com/install/543196597
UID:e.1514.572719
SEQUENCE:3
DTSTAMP:20260425T144940Z
URL:https://business.hendersonkychamber.com/events/details/community-conversation-572719
END:VEVENT

END:VCALENDAR
