BEGIN:VCALENDAR
VERSION:2.0
PRODID:-//ChamberMaster//Event Calendar 2.0//EN
METHOD:PUBLISH
X-PUBLISHED-TTL:P3D
REFRESH-INTERVAL:P3D
CALSCALE:GREGORIAN
BEGIN:VEVENT
DTSTART:20201119T180000Z
DTEND:20201119T190000Z
X-MICROSOFT-CDO-ALLDAYEVENT:FALSE
SUMMARY:Community Conversation - Fair Maps Redistricting
DESCRIPTION:Voting Re-districting explanation by the KYLWV.  \n\n\n\nHenderson Redistricting Information
X-ALT-DESC;FMTTYPE=text/html:Voting Re-districting explanation by the KYLWV.&nbsp\;&nbsp\;<br />\n<br />\n<a href="https://static1.squarespace.com/static/5da3dbee03dd2c4493abed8b/t/5e449e072f8f057b631c79fb/1581555208778/Henderson.LWVestimate.pdf">Henderson Redistricting Information&nbsp\;</a>
LOCATION:Chamber Conversations Chamber Conversations Please join my meeting from your computer\, tablet or smartphone. https://global.gotomeeting.com/join/112959477 You can also dial in using your phone. United States: +1 (872) 240-3311 Access Code: 112-959-477 New to GoToMeeting? Get the app now and be ready when your first meeting starts: https://global.gotomeeting.com/install/112959477
UID:e.1514.572733
SEQUENCE:3
DTSTAMP:20260425T112445Z
URL:https://business.hendersonkychamber.com/events/details/community-conversation-fair-maps-redistricting-572733
END:VEVENT

END:VCALENDAR
