BEGIN:VCALENDAR
VERSION:2.0
PRODID:-//ChamberMaster//Event Calendar 2.0//EN
METHOD:PUBLISH
X-PUBLISHED-TTL:P3D
REFRESH-INTERVAL:P3D
CALSCALE:GREGORIAN
BEGIN:VEVENT
DTSTART:20201029T160000Z
DTEND:20201029T163000Z
X-MICROSOFT-CDO-ALLDAYEVENT:FALSE
SUMMARY:Community Conversation - Homeless Study
DESCRIPTION:Join us for a candid round table conversation about the Homeless Study that was conducted in Henderson with:\n\nCyndee Burton\, Matthew 25\n\nDr. Chad Phillips\, HCC\n\nDr. Pat Lake\, Retired HCC
X-ALT-DESC;FMTTYPE=text/html:Join us for a candid round table conversation about the Homeless Study that was conducted in Henderson with:<br />\nCyndee Burton\, Matthew 25<br />\nDr. Chad Phillips\, HCC<br />\nDr. Pat Lake\, Retired HCC&nbsp\;
LOCATION:Community Conversations Chamber Conversations Please join my meeting from your computer\, tablet or smartphone. https://global.gotomeeting.com/join/112959477 You can also dial in using your phone. United States: +1 (872) 240-3311 Access Code: 112-959-477 New to GoToMeeting? Get the app now and be ready when your first meeting starts: https://global.gotomeeting.com/install/112959477
UID:e.1514.572740
SEQUENCE:3
DTSTAMP:20260425T112308Z
URL:https://business.hendersonkychamber.com/events/details/community-conversation-homeless-study-572740
END:VEVENT

END:VCALENDAR
