BEGIN:VCALENDAR
VERSION:2.0
PRODID:-//ChamberMaster//Event Calendar 2.0//EN
METHOD:PUBLISH
X-PUBLISHED-TTL:P3D
REFRESH-INTERVAL:P3D
CALSCALE:GREGORIAN
BEGIN:VEVENT
DTSTART:20200917T160000Z
DTEND:20200917T170000Z
X-MICROSOFT-CDO-ALLDAYEVENT:FALSE
SUMMARY:Community Conversation - KY SOS Michael Adams
DESCRIPTION:Join us for a candid round table conversation with Kentucky Secretary of State Michael Adams and Henderson County Court Clerk Renesa Abner to discuss new voting regulations for the November General Election
X-ALT-DESC;FMTTYPE=text/html:Join us for a candid round table conversation with Kentucky Secretary of State Michael Adams and Henderson County Court Clerk Renesa Abner to discuss new voting regulations for the November General Election
LOCATION:Community Conversations Chamber Conversations Please join my meeting from your computer\, tablet or smartphone. https://global.gotomeeting.com/join/112959477 You can also dial in using your phone. United States: +1 (872) 240-3311 Access Code: 112-959-477 New to GoToMeeting? Get the app now and be ready when your first meeting starts: https://global.gotomeeting.com/install/112959477
UID:e.1514.572721
SEQUENCE:3
DTSTAMP:20260425T131518Z
URL:https://business.hendersonkychamber.com/events/details/community-conversation-ky-sos-michael-adams-572721
END:VEVENT

END:VCALENDAR
