BEGIN:VCALENDAR
VERSION:2.0
PRODID:-//ChamberMaster//Event Calendar 2.0//EN
METHOD:PUBLISH
X-PUBLISHED-TTL:P3D
REFRESH-INTERVAL:P3D
CALSCALE:GREGORIAN
BEGIN:VEVENT
DTSTART:20201022T160000Z
DTEND:20201022T163000Z
X-MICROSOFT-CDO-ALLDAYEVENT:FALSE
SUMMARY:Community Conversation - State of Education in Henderson
DESCRIPTION:Join us for a candid round table conversation regarding education in our community with:\n\nDr. Bob Lawson\, Superintendent of Henderson County Schools \n\nDr. Jason Warren\, President of Henderson Community College
X-ALT-DESC;FMTTYPE=text/html:Join us for a candid round table conversation regarding education in our community with:<br />\nDr. Bob Lawson\, Superintendent of Henderson County Schools&nbsp\;<br />\nDr. Jason Warren\, President of Henderson Community College
LOCATION:Community Conversations Chamber Conversations Please join my meeting from your computer\, tablet or smartphone. https://global.gotomeeting.com/join/112959477 You can also dial in using your phone. United States: +1 (872) 240-3311 Access Code: 112-959-477 New to GoToMeeting? Get the app now and be ready when your first meeting starts: https://global.gotomeeting.com/install/112959477
UID:e.1514.572741
SEQUENCE:3
DTSTAMP:20260425T112434Z
URL:https://business.hendersonkychamber.com/events/details/community-conversation-state-of-education-in-henderson-572741
END:VEVENT

END:VCALENDAR
