BEGIN:VCALENDAR
VERSION:2.0
PRODID:-//ChamberMaster//Event Calendar 2.0//EN
METHOD:PUBLISH
X-PUBLISHED-TTL:P3D
REFRESH-INTERVAL:P3D
CALSCALE:GREGORIAN
BEGIN:VEVENT
DTSTART:20210803T130000Z
DTEND:20210803T140000Z
X-MICROSOFT-CDO-ALLDAYEVENT:FALSE
SUMMARY:Community Conversation with Dr. Bob Lawson
DESCRIPTION:You are invited to attend a Community Conversation with Dr. Bob Lawson\, Superintendent with Henderson County Schools on the state of our K-12 education for the 2021-2022 school year.  Breakfast will be served.
X-ALT-DESC;FMTTYPE=text/html:You are invited to attend a Community Conversation with Dr. Bob Lawson\, Superintendent with Henderson County Schools on the state of our K-12 education for the 2021-2022 school year.&nbsp\; Breakfast will be served.
LOCATION:Henderson County Public Library Pittsburg Tank and Tower Room
UID:e.1514.572800
SEQUENCE:3
DTSTAMP:20260424T202553Z
URL:https://business.hendersonkychamber.com/events/details/community-conversation-with-dr-bob-lawson-572800
END:VEVENT

END:VCALENDAR
