BEGIN:VCALENDAR
VERSION:2.0
PRODID:-//ChamberMaster//Event Calendar 2.0//EN
METHOD:PUBLISH
X-PUBLISHED-TTL:P3D
REFRESH-INTERVAL:P3D
CALSCALE:GREGORIAN
BEGIN:VEVENT
DTSTART:20220826T124500Z
DTEND:20220826T140000Z
X-MICROSOFT-CDO-ALLDAYEVENT:FALSE
SUMMARY:Community Education Breakfast 2022
DESCRIPTION:Community Education Breakfast\n\nFriday\, August 26\n\n7:45-9:00 a.m.\n\nPittsburg Tank & Tower Event Room B - Henderson County Public Library\n\nRSVP by noon\, Thursday\, August 25\n\n$10.00 Chamber member\n\n$15.00 Non-member \n\nSponsor:  Owensboro Health \n\nSpeakers:\n\nDr. Bob Lawson\, Henderson County School System\n\nDr. Jason Warren\, Henderson Community College\n\nMs. Judy Jenkins\, Holy Name School\n\nLeadership Representative from Murray State University
X-ALT-DESC;FMTTYPE=text/html:<span style="font-size:18px\;">Community Education Breakfast<br />\nFriday\, August 26<br />\n7:45-9:00 a.m.<br />\n<span style="color: rgb(51\, 51\, 51)\; font-family: sans-serif\, Arial\, Verdana\, &quot\;Trebuchet MS&quot\;\; background-color: rgb(255\, 255\, 255)\;">Pittsburg Tank &amp\; Tower Event Room B - Henderson County Public Library<br />\nRSVP by noon\, Thursday\, August 25<br />\n$10.00 Chamber member<br />\n$15.00 Non-member&nbsp\;<br />\nSponsor:&nbsp\; Owensboro Health&nbsp\;<br />\nSpeakers:<br />\nDr. Bob Lawson\, Henderson County School System<br />\nDr. Jason Warren\, Henderson Community College<br />\nMs. Judy Jenkins\, Holy Name School</span><br />\nLeadership Representative from Murray State University&nbsp\;</span>
LOCATION:
UID:e.1514.572856
SEQUENCE:3
DTSTAMP:20260422T002803Z
URL:https://business.hendersonkychamber.com/events/details/community-education-breakfast-2022-572856
END:VEVENT

END:VCALENDAR
