BEGIN:VCALENDAR
VERSION:2.0
PRODID:-//ChamberMaster//Event Calendar 2.0//EN
METHOD:PUBLISH
X-PUBLISHED-TTL:P3D
REFRESH-INTERVAL:P3D
CALSCALE:GREGORIAN
BEGIN:VEVENT
DTSTART:20250822T123000Z
DTEND:20250822T140000Z
X-MICROSOFT-CDO-ALLDAYEVENT:FALSE
SUMMARY:Community Education Breakfast
DESCRIPTION:Community Education Breakfast\n\nFriday\, August 22nd\n\n7:30-9:00 a.m.\n\nBuffet line opens at 7:15 a.m.\n\n\n\nRSVP by noon\, Thursday\, August 21st\n\nSponsor:  Owensboro Health \n\n\n\nGuest speakers:  Dr. Ron Patterson\, Murray State University\, Dr. Jason Warren\, Henderson Community College\, Dr. Bob Lawson\, Henderson County Public School\, Emma Bridges\, Holy Name School
X-ALT-DESC;FMTTYPE=text/html:<span style="font-size:14px\;">Community Education Breakfast<br />\nFriday\, August 22nd<br />\n7:30-9:00 a.m.<br />\nBuffet line opens at 7:15 a.m.<br />\n<br />\n<span style="color: rgb(51\, 51\, 51)\; font-family: sans-serif\, Arial\, Verdana\, &quot\;Trebuchet MS&quot\;\; background-color: rgb(255\, 255\, 255)\;">RSVP by noon\, Thursday\, August 21st<br />\nSponsor:&nbsp\; Owensboro Health&nbsp\;</span><br />\n<br />\nGuest speakers:&nbsp\; Dr. Ron Patterson\, Murray State University\, Dr. Jason Warren\, Henderson Community College\, Dr. Bob Lawson\, Henderson County Public School\, Emma Bridges\, Holy Name School</span><br />\n<br />\n&nbsp\;
LOCATION:Located on the Second Floor of the Henderson County Public Library
UID:e.1514.573047
SEQUENCE:3
DTSTAMP:20260422T162235Z
URL:https://business.hendersonkychamber.com/events/details/community-education-breakfast-573047
END:VEVENT

END:VCALENDAR
