BEGIN:VCALENDAR
VERSION:2.0
PRODID:-//ChamberMaster//Event Calendar 2.0//EN
METHOD:PUBLISH
X-PUBLISHED-TTL:P3D
REFRESH-INTERVAL:P3D
CALSCALE:GREGORIAN
BEGIN:VEVENT
DTSTART;VALUE=DATE:20250313
DTEND;VALUE=DATE:20250316
TRANSP:TRANSPARENT
X-MICROSOFT-CDO-ALLDAYEVENT:TRUE
SUMMARY:Espresso Martini Fest
DESCRIPTION:Do you enjoy a good espresso martini?!\n\n\n\nIf so\, you won't want to miss out on downtown Henderson's first ever Espresso Martini Fest starting on National Espresso Martini Day!\n\n\n\n- Signature Espresso Martini: Participating businesses will craft their own unique twist on the classic espresso martini and offer it at a special price ($10 or $12).\n\n- Specials: Regular espresso martinis will also be available at the same special price.\n\n- Pairing Dish: Each participant will feature one dish that pairs perfectly with their martini.\n\n\n\nGuests will visit participating locations and vote for their favorite martinis in various categories!
X-ALT-DESC;FMTTYPE=text/html:Do you enjoy a good espresso martini?!<br />\n<br />\nIf so\, you won&#39\;t want to miss out on downtown Henderson&#39\;s first ever Espresso Martini Fest starting on National Espresso Martini Day!<br />\n<br />\n- Signature Espresso Martini: Participating businesses will craft their own unique twist on the classic espresso martini and offer it at a special price ($10 or $12).<br />\n- Specials: Regular espresso martinis will also be available at the same special price.<br />\n- Pairing Dish: Each participant will feature one dish that pairs perfectly with their martini.<br />\n<br />\nGuests will visit participating locations and vote for their favorite martinis in various categories!
LOCATION:
UID:e.1514.573005
SEQUENCE:3
DTSTAMP:20260423T043930Z
URL:https://business.hendersonkychamber.com/events/details/espresso-martini-fest-573005
END:VEVENT

END:VCALENDAR
