BEGIN:VCALENDAR
VERSION:2.0
PRODID:-//ChamberMaster//Event Calendar 2.0//EN
METHOD:PUBLISH
X-PUBLISHED-TTL:P3D
REFRESH-INTERVAL:P3D
CALSCALE:GREGORIAN
BEGIN:VEVENT
DTSTART:20200915T000000Z
DTEND:20200915T003000Z
X-MICROSOFT-CDO-ALLDAYEVENT:FALSE
SUMMARY:Fall 2020 Chamber Candidates Forum
DESCRIPTION:Chamber Candidates Forum for General Election on November 3\, 2020. Candidates will have an opportunity to answer questions and give a statement of their goals while in office if elected. \n\n	\n		\n			Date\n			Name\n		\n		\n			September 14 (Mon)\n			Tom Davis\n		\n		\n			September 15 (Tues)\n			Robert Pruitt\n		\n		\n			September 16 (Wed)\n			Jonathan Dixon\n		\n		\n			September 17 (Thurs)\n			Austin Vowels\n		\n		\n			September 21 (Mon)\n			Becky Hudson-Brown\n		\n		\n			September 22 (Tues)\n			Rodney Thomas\n		\n		\n			September 23 (Wed)\n			Velvet Dowdy\n		\n		\n			September 24 (Thurs)\n			Brad Staton
X-ALT-DESC;FMTTYPE=text/html:Chamber Candidates Forum for General Election on November 3\, 2020. Candidates will have an opportunity to answer questions and give a statement of their goals while in office if elected.&nbsp\;\n<table border="1" cellpadding="0" cellspacing="0" style="border-collapse:collapse\;border:none\;">\n	<tbody>\n		<tr>\n			<td style="width:180px\;border:1pt solid windowtext\;padding:0in 5.4pt\;vertical-align:top\;"><strong>Date</strong></td>\n			<td style="width:444px\;border-top:1pt solid windowtext\;border-right:1pt solid windowtext\;border-bottom:1pt solid windowtext\;border-image:initial\;border-left:none\;padding:0in 5.4pt\;vertical-align:top\;"><strong>Name</strong></td>\n		</tr>\n		<tr>\n			<td style="width:180px\;border-right:1pt solid windowtext\;border-bottom:1pt solid windowtext\;border-left:1pt solid windowtext\;border-image:initial\;border-top:none\;padding:0in 5.4pt\;vertical-align:top\;">September 14 (Mon)</td>\n			<td style="width:444px\;border-top:none\;border-left:none\;border-bottom:1pt solid windowtext\;border-right:1pt solid windowtext\;padding:0in 5.4pt\;vertical-align:top\;">Tom Davis</td>\n		</tr>\n		<tr>\n			<td style="width:180px\;border-right:1pt solid windowtext\;border-bottom:1pt solid windowtext\;border-left:1pt solid windowtext\;border-image:initial\;border-top:none\;padding:0in 5.4pt\;vertical-align:top\;">September 15 (Tues)</td>\n			<td style="width:444px\;border-top:none\;border-left:none\;border-bottom:1pt solid windowtext\;border-right:1pt solid windowtext\;padding:0in 5.4pt\;vertical-align:top\;">Robert Pruitt</td>\n		</tr>\n		<tr>\n			<td style="width:180px\;border-right:1pt solid windowtext\;border-bottom:1pt solid windowtext\;border-left:1pt solid windowtext\;border-image:initial\;border-top:none\;padding:0in 5.4pt\;vertical-align:top\;">September 16 (Wed)</td>\n			<td style="width:444px\;border-top:none\;border-left:none\;border-bottom:1pt solid windowtext\;border-right:1pt solid windowtext\;padding:0in 5.4pt\;vertical-align:top\;">Jonathan Dixon</td>\n		</tr>\n		<tr>\n			<td style="width:180px\;border-right:1pt solid windowtext\;border-bottom:1pt solid windowtext\;border-left:1pt solid windowtext\;border-image:initial\;border-top:none\;padding:0in 5.4pt\;vertical-align:top\;">September 17 (Thurs)</td>\n			<td style="width:444px\;border-top:none\;border-left:none\;border-bottom:1pt solid windowtext\;border-right:1pt solid windowtext\;padding:0in 5.4pt\;vertical-align:top\;">Austin Vowels</td>\n		</tr>\n		<tr>\n			<td style="width:180px\;border-right:1pt solid windowtext\;border-bottom:1pt solid windowtext\;border-left:1pt solid windowtext\;border-image:initial\;border-top:none\;padding:0in 5.4pt\;vertical-align:top\;">September 21 (Mon)</td>\n			<td style="width:444px\;border-top:none\;border-left:none\;border-bottom:1pt solid windowtext\;border-right:1pt solid windowtext\;padding:0in 5.4pt\;vertical-align:top\;">Becky Hudson-Brown</td>\n		</tr>\n		<tr>\n			<td style="width:180px\;border-right:1pt solid windowtext\;border-bottom:1pt solid windowtext\;border-left:1pt solid windowtext\;border-image:initial\;border-top:none\;padding:0in 5.4pt\;vertical-align:top\;">September 22 (Tues)</td>\n			<td style="width:444px\;border-top:none\;border-left:none\;border-bottom:1pt solid windowtext\;border-right:1pt solid windowtext\;padding:0in 5.4pt\;vertical-align:top\;">Rodney Thomas</td>\n		</tr>\n		<tr>\n			<td style="width:180px\;border-right:1pt solid windowtext\;border-bottom:1pt solid windowtext\;border-left:1pt solid windowtext\;border-image:initial\;border-top:none\;padding:0in 5.4pt\;vertical-align:top\;">September 23 (Wed)</td>\n			<td style="width:444px\;border-top:none\;border-left:none\;border-bottom:1pt solid windowtext\;border-right:1pt solid windowtext\;padding:0in 5.4pt\;vertical-align:top\;">Velvet Dowdy</td>\n		</tr>\n		<tr>\n			<td style="width:180px\;border-right:1pt solid windowtext\;border-bottom:1pt solid windowtext\;border-left:1pt solid windowtext\;border-image:initial\;border-top:none\;padding:0in 5.4pt\;vertical-align:top\;">September 24 (Thurs)</td>\n			<td style="width:444px\;border-top:none\;border-left:none\;border-bottom:1pt solid windowtext\;border-right:1pt solid windowtext\;padding:0in 5.4pt\;vertical-align:top\;">Brad Staton</td>\n		</tr>\n	</tbody>\n</table>\n
LOCATION:Candidate Forum Please join my meeting from your computer\, tablet or smartphone. https://global.gotomeeting.com/join/112959477 You can also dial in using your phone. United States: +1 (872) 240-3311 Access Code: 112-959-477 New to GoToMeeting? Get the app now and be ready when your first meeting starts: https://global.gotomeeting.com/install/112959477
UID:e.1514.572724
SEQUENCE:3
DTSTAMP:20260425T145206Z
URL:https://business.hendersonkychamber.com/events/details/fall-2020-chamber-candidates-forum-572724
END:VEVENT

END:VCALENDAR
