BEGIN:VCALENDAR
VERSION:2.0
PRODID:-//ChamberMaster//Event Calendar 2.0//EN
METHOD:PUBLISH
X-PUBLISHED-TTL:P3D
REFRESH-INTERVAL:P3D
CALSCALE:GREGORIAN
BEGIN:VEVENT
DTSTART:20211118T220000Z
DTEND:20211119T000000Z
X-MICROSOFT-CDO-ALLDAYEVENT:FALSE
SUMMARY:Forward 41N Corridor Public Forum
DESCRIPTION:The US 41 Corridor acts as a major gateway into the City of Henderson\, serving as a spine to Downtown with cultural attractions and riverfront amenities. It is often visitors' and residents' first impression of the community. As improvements are completed for I-69\, it is critical to plan ahead for the vitality of this corridor.\n\n \n\nThe US 41 Corridor Plan Listening Session is an opportunity for the Henderson community to provide input regarding the future vision for the US 41 corridor. Participants are invited to:\n\n \n\n\n	Learn about the project\n	Review project goals and objectives\n	Review preliminary recommendations\n	Provide comments
X-ALT-DESC;FMTTYPE=text/html:<p class="_04xlpA direction-ltr align-start para-style-body" style="font-family: &quot\;YAD7Q9NigKI 0&quot\;\, _fb_\, auto\; font-size: 41.3341px\; line-height: 1.4\; color: rgb(0\, 0\, 0)\;"><span style="font-size:12px\;"><span class="JsGRdQ" style="font-weight: 700\;">The US 41 Corridor acts as a major gateway into the City of Henderson\, serving as a spine to Downtown with cultural attractions and riverfront amenities. It is often visitors&rsquo\; and residents&rsquo\; first impression of the community. As improvements are completed for I-69\, it is critical to plan ahead for the vitality of this corridor.</span></span></p>\n\n<p class="_04xlpA direction-ltr align-start para-style-body" style="font-family: &quot\;YAD7Q9NigKI 0&quot\;\, _fb_\, auto\; font-size: 41.3341px\; line-height: 1.4\; color: rgb(0\, 0\, 0)\;">&nbsp\;</p>\n\n<p class="_04xlpA direction-ltr align-start para-style-body" style="font-family: &quot\;YAD7Q9NigKI 0&quot\;\, _fb_\, auto\; font-size: 41.3341px\; line-height: 1.4\; color: rgb(0\, 0\, 0)\;"><span style="font-size:12px\;"><span class="JsGRdQ" style="font-weight: 700\;">The US 41 Corridor Plan Listening Session is an opportunity for the Henderson community to provide input regarding the future vision for the US 41 corridor. Participants are invited to:</span></span></p>\n\n<p class="_04xlpA direction-ltr align-start para-style-body" style="font-family: &quot\;YAD7Q9NigKI 0&quot\;\, _fb_\, auto\; font-size: 41.3341px\; line-height: 1.4\; color: rgb(0\, 0\, 0)\;">&nbsp\;</p>\n\n<ul>\n	<li><span style="font-size:12px\;"><span class="JsGRdQ" style="font-weight: 700\; color: rgb(0\, 0\, 0)\;">Learn about the project</span></span></li>\n	<li><span style="font-size:12px\;"><span class="JsGRdQ" style="font-weight: 700\; color: rgb(0\, 0\, 0)\;">Review project goals and objectives</span></span></li>\n	<li><span style="font-size:12px\;"><span class="JsGRdQ" style="font-weight: 700\; color: rgb(0\, 0\, 0)\;">Review preliminary recommendations</span></span></li>\n	<li><span style="font-size:12px\;"><span class="JsGRdQ" style="font-weight: 700\; color: rgb(0\, 0\, 0)\;">Provide comments</span></span></li>\n</ul>\n
LOCATION:Firedome/Lumberyard Barrett Blvd. Henderson\, KY.
UID:e.1514.572817
SEQUENCE:3
DTSTAMP:20260424T134931Z
URL:https://business.hendersonkychamber.com/events/details/forward-41n-corridor-public-forum-572817
END:VEVENT

END:VCALENDAR
