BEGIN:VCALENDAR
VERSION:2.0
PRODID:-//ChamberMaster//Event Calendar 2.0//EN
METHOD:PUBLISH
X-PUBLISHED-TTL:P3D
REFRESH-INTERVAL:P3D
CALSCALE:GREGORIAN
BEGIN:VEVENT
DTSTART:20200506T183000Z
DTEND:20200506T200000Z
X-MICROSOFT-CDO-ALLDAYEVENT:FALSE
SUMMARY:Getting Back to Business Webinar
DESCRIPTION:Join the community for a Facebook Live webinar during which the Henderson government will cover topics such as local health department regulations\, how to protect your customers and employees\, how to acquire masks\, gloves and gowns\; what workplace COVID19 testing means and what some Henderson businesses are already doing to adjust to the new normal. And\, viewers will have the opportunity to to ask written questions. The video will be archived so those who can't watch live can still see and hear the presentations at their convenience.
X-ALT-DESC;FMTTYPE=text/html:<span style="color: rgb(93\, 93\, 93)\; font-family: Arial\, Verdana\, Helvetica\, sans-serif\; font-size: 16px\;">Join the community for a Facebook Live webinar during which the Henderson government will cover topics such as local health department regulations\, how to protect your customers and employees\, how to acquire masks\, gloves and gowns\; what workplace COVID19 testing means and what some Henderson businesses are already doing to adjust to the new normal. And\, viewers will have the opportunity to to ask written questions. The video will be archived so those who can&rsquo\;t watch live can still see and hear the presentations at their convenience.</span>
LOCATION:Facebook Live on Henderson County\, Kentucky Government Page
UID:e.1514.572677
SEQUENCE:3
DTSTAMP:20260425T194750Z
URL:https://business.hendersonkychamber.com/events/details/getting-back-to-business-webinar-572677
END:VEVENT

END:VCALENDAR
