BEGIN:VCALENDAR
VERSION:2.0
PRODID:-//ChamberMaster//Event Calendar 2.0//EN
METHOD:PUBLISH
X-PUBLISHED-TTL:P3D
REFRESH-INTERVAL:P3D
CALSCALE:GREGORIAN
BEGIN:VEVENT
DTSTART:20211202T140000Z
DTEND:20211202T160000Z
X-MICROSOFT-CDO-ALLDAYEVENT:FALSE
SUMMARY:Kentucky Chamber Legislative Preview
DESCRIPTION:Ashli Watts\, President of Kentucky Chamber of Commerce will provide an update on the upcoming 2022 legislative session.
X-ALT-DESC;FMTTYPE=text/html:&nbsp\;Ashli Watts\, President of Kentucky Chamber of Commerce will provide an update on the upcoming 2022 legislative session. &nbsp\;&nbsp\;
LOCATION:UK Extension EXPO Center 3341 Zion Rd Henderson\, KY. 42420
UID:e.1514.572807
SEQUENCE:3
DTSTAMP:20260424T135026Z
URL:https://business.hendersonkychamber.com/events/details/kentucky-chamber-legislative-preview-572807
END:VEVENT

END:VCALENDAR
