BEGIN:VCALENDAR
VERSION:2.0
PRODID:-//ChamberMaster//Event Calendar 2.0//EN
METHOD:PUBLISH
X-PUBLISHED-TTL:P3D
REFRESH-INTERVAL:P3D
CALSCALE:GREGORIAN
BEGIN:VEVENT
DTSTART:20200113T133000Z
DTEND:20200113T150000Z
X-MICROSOFT-CDO-ALLDAYEVENT:FALSE
SUMMARY:Legislative Preview Breakfast 2020
DESCRIPTION:Legislative Preview Breakfast\n\nMonday\, January 13\n\n 7:30-9:00 a.m.\n\n Big Rivers Electric Training Facility - 314 Water Street\, Building B.\, Henderson\n\n $15.00 - Chamber members\n\n $35.00 - Non-members\n\nRSVP to info@kyndle.us\n\nSponsors:  Big Rivers Electric/Kenergy
X-ALT-DESC;FMTTYPE=text/html:Legislative Preview Breakfast<br />\nMonday\, January 13<br />\n&#8203\;7:30-9:00 a.m.<br />\n&#8203\;Big Rivers Electric Training Facility - 314 Water Street\, Building B.\, Henderson<br />\n&#8203\;$15.00 - Chamber members<br />\n&#8203\;$35.00 - Non-members<br />\nRSVP to info@kyndle.us<br />\n<span style="font-size:22px\;"><strong>Sponsors:&nbsp\; Big Rivers Electric/Kenergy&nbsp\;</strong></span>
LOCATION:Big Rivers Electric Training Facility 314 Water Street\, Building B Henderson\, KY 42420
UID:e.1514.572452
SEQUENCE:3
DTSTAMP:20260426T023845Z
URL:https://business.hendersonkychamber.com/events/details/legislative-preview-breakfast-2020-572452
END:VEVENT

END:VCALENDAR
