BEGIN:VCALENDAR
VERSION:2.0
PRODID:-//ChamberMaster//Event Calendar 2.0//EN
METHOD:PUBLISH
X-PUBLISHED-TTL:P3D
REFRESH-INTERVAL:P3D
CALSCALE:GREGORIAN
BEGIN:VEVENT
DTSTART:20200430T130000Z
DTEND:20200430T143000Z
X-MICROSOFT-CDO-ALLDAYEVENT:FALSE
SUMMARY:Legislative Review
DESCRIPTION:The Annual Henderson Chamber Legislative Review will be a follow-up to the Legislative Preview that was held  in January this year. \n\nThe Chamber Government Affairs Committee put together a list of top five (5) issues of concern for our community and presented those to our legislators.  They will have the opportunity to update us on legislative action on those concerns at our April 30 meeting.\n\nState Legislators that have confirmed attendance are:  Representative Rob Wiederstein\, Representative Suzanne Mills\, Senator Robby Mills\, and Representative Jim Gooch. \n\nEric Gardner\, Chamber Government Affairs Chair\, will be the moderator for the event. \n\nThe new format\, due to COVID-19\, will be via web conference.  Those in attendance will have the opportunity to ask questions with the CHAT feature on the software.  Each legislator will have an opportunity to answer questions.  In addition to the legislative updates\, Mayor Steve Austin and County Judge Executive Brad Schneider will have an opportunity to provide community updates.\n\nBelow is the list of topics.\n\n	 Energy / Rural Broadband\n	I-69 Bridge\n	Education   Recruitment\, Retention\, Pension\, Pre K-12 funding\n	Opioid/SUD\n	Hemp
X-ALT-DESC;FMTTYPE=text/html:<span style="font-size:11pt\;">The Annual Henderson Chamber Legislative Review will be a follow-up to the Legislative Preview that was held &nbsp\;in January this year.&nbsp\;</span><br />\n<span style="font-size:11pt\;">The Chamber Government Affairs Committee put together a list of top five (5) issues of concern for our community and presented those to our legislators.&nbsp\; They will have the opportunity to update us on legislative action on those concerns at our April 30 meeting.</span><br />\n<span style="font-size:11pt\;">State Legislators that have confirmed attendance are:&nbsp\; Representative Rob Wiederstein\, Representative Suzanne Mills\, Senator Robby Mills\, and Representative Jim Gooch.&nbsp\;</span><br />\n<span style="font-size:11pt\;">Eric Gardner\, Chamber Government Affairs Chair\, will be the moderator for the event.&nbsp\;</span><br />\n<span style="font-size:11pt\;">The new format\, due to COVID-19\, will be via web conference.&nbsp\; Those in attendance will have the opportunity to ask questions with the CHAT feature on the software.&nbsp\; Each legislator will have an opportunity to answer questions.&nbsp\; In addition to the legislative updates\, Mayor Steve Austin and County Judge Executive Brad Schneider will have an opportunity to provide community updates.</span><br />\n<span style="font-size:11pt\;">Below is the list of topics.</span>\n<ol>\n	<li style="font-size:12pt\;font-family:Cambria\, serif\;color:rgb(0\, 0\, 0)\;"><span style="font-size:11pt\;">&nbsp\;Energy / Rural Broadband</span></li>\n	<li style="font-size:12pt\;font-family:Cambria\, serif\;color:rgb(0\, 0\, 0)\;"><span style="font-size:11pt\;">I-69 Bridge</span></li>\n	<li style="font-size:12pt\;font-family:Cambria\, serif\;color:rgb(0\, 0\, 0)\;"><span style="font-size:11pt\;">Education &ndash\; Recruitment\, Retention\, Pension\, Pre K-12 funding</span></li>\n	<li style="font-size:12pt\;font-family:Cambria\, serif\;color:rgb(0\, 0\, 0)\;"><span style="font-size:11pt\;">Opioid/SUD</span></li>\n	<li style="font-size:12pt\;font-family:Cambria\, serif\;color:rgb(0\, 0\, 0)\;"><span style="font-size:11pt\;">Hemp</span></li>\n</ol>\n
LOCATION:Legislative Review Thu\, Apr 30\, 2020 8:00 AM - 9:30 AM (CDT) Please join my meeting from your computer\, tablet or smartphone. https://global.gotomeeting.com/join/824278965 You can also dial in using your phone. United States: +1 (872) 240-3311 Access Code: 824-278-965 New to GoToMeeting? Get the app now and be ready when your first meeting starts: https://global.gotomeeting.com/install/824278965
UID:e.1514.572533
SEQUENCE:3
DTSTAMP:20260425T230801Z
URL:https://business.hendersonkychamber.com/events/details/legislative-review-572533
END:VEVENT

END:VCALENDAR
