BEGIN:VCALENDAR
VERSION:2.0
PRODID:-//ChamberMaster//Event Calendar 2.0//EN
METHOD:PUBLISH
X-PUBLISHED-TTL:P3D
REFRESH-INTERVAL:P3D
CALSCALE:GREGORIAN
BEGIN:VEVENT
DTSTART:20210412T133000Z
DTEND:20210412T133000Z
X-MICROSOFT-CDO-ALLDAYEVENT:FALSE
SUMMARY:Legislative Review Virtual Discussion
DESCRIPTION:VIRTUAL. Legislative Review\n\nMonday\, April 12\, 2021\n\n8:30 am - 9:30 am\n\nVIRTUAL. Legislative Review Monday\, April 12\, 2021 This is your opportunity to hear from our Legislators on final bill passage and discussion in Frankfort.  Join us! Senator Robby Mills Rep. Jonathan Dixon\,  Rep. Jim Gooch Rep. Suzanne Miles.   We will also hear from Secretary of State Michael Adams
X-ALT-DESC;FMTTYPE=text/html:VIRTUAL. Legislative Review<br />\nMonday\, April 12\, 2021<br />\n8:30 am - 9:30 am<br />\nVIRTUAL. Legislative Review Monday\, April 12\, 2021 This is your opportunity to hear from our Legislators on final bill passage and discussion in Frankfort.&nbsp\; Join us! Senator Robby Mills Rep. Jonathan Dixon\,&nbsp\; Rep. Jim Gooch Rep. Suzanne Miles.&nbsp\; &nbsp\;We will also hear from Secretary of State Michael Adams&nbsp\;<br />\n<br />\n&nbsp\;
LOCATION:Please join my meeting from your computer\, tablet or smartphone. https://global.gotomeeting.com/join/112959477 You can also dial in using your phone. United States: +1 (872) 240-3311 Access Code: 112-959-477 New to GoToMeeting? Get the app now and be ready when your first meeting starts: https://global.gotomeeting.com/install/112959477
UID:e.1514.572776
SEQUENCE:3
DTSTAMP:20260425T013432Z
URL:https://business.hendersonkychamber.com/events/details/legislative-review-virtual-discussion-572776
END:VEVENT

END:VCALENDAR
