BEGIN:VCALENDAR
VERSION:2.0
PRODID:-//ChamberMaster//Event Calendar 2.0//EN
METHOD:PUBLISH
X-PUBLISHED-TTL:P3D
REFRESH-INTERVAL:P3D
CALSCALE:GREGORIAN
BEGIN:VEVENT
DTSTART:20250827T163000Z
DTEND:20250827T180000Z
X-MICROSOFT-CDO-ALLDAYEVENT:FALSE
SUMMARY:Lunch & Learn: Business Development
DESCRIPTION:Join us for the fourth installment of our Business Success Series\, presented in partnership with the Henderson County Public Library. This Lunch & Learn session will focus on Business Development and features guest speaker Chris Wooldridge\, Director of the Center for Economic and Entrepreneurial Development at Murray State University's Bauernfeind College of Business.\n\n\n\nWith over 25 years of experience in banking\, finance\, and business consulting\, Chris brings a wealth of knowledge in entrepreneurship\, economic growth\, and business strategy. From supporting start-ups to guiding existing businesses through corporate turnarounds\, Chris offers real-world insights that can help drive your business forward.\n\n \n\nThis event is free to attend with lunch provided\, although registration is required.\n\nReserve your spot today!
X-ALT-DESC;FMTTYPE=text/html:<div class="p1" style="margin: 0px\; font-variant-numeric: normal\; font-variant-east-asian: normal\; font-variant-alternates: normal\; font-size-adjust: none\; font-kerning: auto\; font-optical-sizing: auto\; font-feature-settings: normal\; font-variation-settings: normal\; font-variant-position: normal\; font-variant-emoji: normal\; font-stretch: normal\; line-height: normal\; color: rgb(0\, 0\, 0)\;">\n<div data-olk-copy-source="MessageBody" style="border: 0px\; font-variant-numeric: inherit\; font-variant-east-asian: inherit\; font-variant-alternates: inherit\; font-variant-position: inherit\; font-variant-emoji: inherit\; font-stretch: inherit\; line-height: inherit\; font-optical-sizing: inherit\; font-size-adjust: inherit\; font-kerning: inherit\; font-feature-settings: inherit\; font-variation-settings: inherit\; margin: 0px\; padding: 0px\; vertical-align: baseline\; color: rgb(36\, 36\, 36)\;"><span style="font-size:12px\;"><span style="font-family:times new roman\;">Join us for the fourth&nbsp\;installment of our Business Success Series\, presented in partnership with the Henderson County Public Library. This Lunch &amp\; Learn session will focus on Business Development and features guest speaker Chris Wooldridge\, Director of the Center for Economic and Entrepreneurial Development at Murray State University&rsquo\;s Bauernfeind College of Business.<br />\n<br />\nWith over 25 years of experience in banking\, finance\, and business consulting\, Chris brings a wealth of knowledge in entrepreneurship\, economic growth\, and business strategy. From supporting start-ups to guiding existing businesses through corporate turnarounds\, Chris offers real-world insights that can help drive your business forward.</span></span></div>\n\n<p data-olk-copy-source="MessageBody" style="border: 0px\; font-variant-numeric: inherit\; font-variant-east-asian: inherit\; font-variant-alternates: inherit\; font-variant-position: inherit\; font-variant-emoji: inherit\; font-stretch: inherit\; line-height: inherit\; font-optical-sizing: inherit\; font-size-adjust: inherit\; font-kerning: inherit\; font-feature-settings: inherit\; font-variation-settings: inherit\; margin: 0px\; padding: 0px\; vertical-align: baseline\; color: rgb(36\, 36\, 36)\;">&nbsp\;</p>\n\n<div data-olk-copy-source="MessageBody" style="border: 0px\; font-variant-numeric: inherit\; font-variant-east-asian: inherit\; font-variant-alternates: inherit\; font-variant-position: inherit\; font-variant-emoji: inherit\; font-stretch: inherit\; line-height: inherit\; font-optical-sizing: inherit\; font-size-adjust: inherit\; font-kerning: inherit\; font-feature-settings: inherit\; font-variation-settings: inherit\; margin: 0px\; padding: 0px\; vertical-align: baseline\; color: rgb(36\, 36\, 36)\;"><span style="font-size:12px\;"><span style="font-family:times new roman\;">This event is free to attend with lunch provided\, although&nbsp\;registration is&nbsp\;required.<br />\nReserve your spot today!</span></span></div>\n\n<div data-olk-copy-source="MessageBody" style="border: 0px\; font-variant-numeric: inherit\; font-variant-east-asian: inherit\; font-variant-alternates: inherit\; font-variant-position: inherit\; font-variant-emoji: inherit\; font-stretch: inherit\; line-height: inherit\; font-optical-sizing: inherit\; font-size-adjust: inherit\; font-kerning: inherit\; font-feature-settings: inherit\; font-variation-settings: inherit\; margin: 0px\; padding: 0px\; vertical-align: baseline\; color: rgb(36\, 36\, 36)\;">&nbsp\;</div>\n</div>\n
LOCATION:Where: Henderson County Public Library (Pittsburgh Tank & Tower Room)
UID:e.1514.573039
SEQUENCE:3
DTSTAMP:20260422T163358Z
URL:https://business.hendersonkychamber.com/events/details/lunch-learn-business-development-573039
END:VEVENT

END:VCALENDAR
