BEGIN:VCALENDAR
VERSION:2.0
PRODID:-//ChamberMaster//Event Calendar 2.0//EN
METHOD:PUBLISH
X-PUBLISHED-TTL:P3D
REFRESH-INTERVAL:P3D
CALSCALE:GREGORIAN
BEGIN:VEVENT
DTSTART:20200814T170000Z
DTEND:20200814T174500Z
X-MICROSOFT-CDO-ALLDAYEVENT:FALSE
SUMMARY:NCL Protection from COVID Scams
DESCRIPTION:Protecting Kentuckians from COVID-19 Scams: A virtual panel event with Kentucky Attorney General Daniel Cameron and fraud experts\n\nFriday\, Aug. 14\, 2020   1:00 - 1:45 p.m. ET\n\n \n\n	Kentucky Attorney General Daniel Cameron\n	John Breyault - Vice President\, National Consumers League\n	Heather Clary - Director of Communications\, Better Business Bureau of Central & Eastern KY\n	Dr. Nichole Huff - Assistant Extension Professor of Family Finance & Resource Management\,\n\n                                               University of Kentucky Cooperative Extension Service\n\n \n\n   Here is the link to register to view the live stream: https://bit.ly/31SsRfy
X-ALT-DESC;FMTTYPE=text/html:<strong>Protecting Kentuckians from COVID-19 Scams: A virtual panel event with Kentucky Attorney General Daniel Cameron and fraud experts</strong><br />\nFriday\, Aug. 14\, 2020 &bull\; 1:00 - 1:45 p.m. ET<br />\n&nbsp\;\n<ul>\n	<li style="font-size:11pt\;font-family:Calibri\, sans-serif\;"><strong>Kentucky Attorney</strong>&nbsp\;<strong>General Daniel Cameron</strong></li>\n	<li style="font-size:11pt\;font-family:Calibri\, sans-serif\;"><strong>John Breyault</strong>&nbsp\;- Vice President\, National Consumers League</li>\n	<li style="font-size:11pt\;font-family:Calibri\, sans-serif\;"><strong>Heather Clary</strong>&nbsp\;- Director of Communications\, Better Business Bureau of Central &amp\; Eastern KY</li>\n	<li style="font-size:11pt\;font-family:Calibri\, sans-serif\;"><strong>Dr. Nichole Huff</strong>&nbsp\;- Assistant Extension Professor of Family Finance &amp\; Resource Management\,</li>\n</ul>\n&nbsp\;&nbsp\;&nbsp\;&nbsp\;&nbsp\;&nbsp\;&nbsp\;&nbsp\;&nbsp\;&nbsp\;&nbsp\;&nbsp\;&nbsp\;&nbsp\;&nbsp\;&nbsp\;&nbsp\;&nbsp\;&nbsp\;&nbsp\;&nbsp\;&nbsp\;&nbsp\;&nbsp\;&nbsp\;&nbsp\;&nbsp\;&nbsp\;&nbsp\;&nbsp\;&nbsp\;&nbsp\;&nbsp\;&nbsp\;&nbsp\;&nbsp\;&nbsp\;&nbsp\;&nbsp\;&nbsp\;&nbsp\;&nbsp\;&nbsp\;&nbsp\;&nbsp\;&nbsp\; University of Kentucky Cooperative Extension Service<br />\n&nbsp\;<br />\n&gt\;&gt\; Here is the link to register to view the live stream:&nbsp\;<span style="color:#0000cc\;"><a href="https://bit.ly/31SsRfy" target="_blank"><span style="color:#0000cc\;">https://bit.ly/31SsRfy</span></a></span><br />\n&nbsp\;
LOCATION:
UID:e.1514.572720
SEQUENCE:3
DTSTAMP:20260425T145526Z
URL:https://business.hendersonkychamber.com/events/details/ncl-protection-from-covid-scams-572720
END:VEVENT

END:VCALENDAR
