BEGIN:VCALENDAR
VERSION:2.0
PRODID:-//ChamberMaster//Event Calendar 2.0//EN
METHOD:PUBLISH
X-PUBLISHED-TTL:P3D
REFRESH-INTERVAL:P3D
CALSCALE:GREGORIAN
BEGIN:VEVENT
DTSTART:20200513T203000Z
DTEND:20200513T210000Z
X-MICROSOFT-CDO-ALLDAYEVENT:FALSE
SUMMARY:Re-Open Henderson -Let's talk
DESCRIPTION:Re-Open Henderson will be the new focus 3:30pm - Monday - Thursday!
X-ALT-DESC;FMTTYPE=text/html:<div style="color: rgb(153\, 153\, 153)\; font-family: Georgia\, &quot\;Times New Roman&quot\;\, Times\, serif\; font-size: 18px\;">&nbsp\;</div>\n\n<div style="color: rgb(153\, 153\, 153)\; font-family: Georgia\, &quot\;Times New Roman&quot\;\, Times\, serif\; font-size: 18px\;"><span style="font-size: 16px\; color: rgb(0\, 0\, 0)\; font-family: Arial\, Verdana\, Helvetica\, sans-serif\;">Re-Open Henderson will be the new focus&nbsp\;3:30pm - Monday - Thursday!</span></div>\n
LOCATION:Re-Open Henderson Chamber Chat Please join my meeting from your computer\, tablet or smartphone. https://global.gotomeeting.com/join/659828653 You can also dial in using your phone. United States: +1 (571) 317-3122 Access Code: 659-828-653 New to GoToMeeting? Get the app now and be ready when your first meeting starts: https://global.gotomeeting.com/install/659828653
UID:e.1514.572679
SEQUENCE:3
DTSTAMP:20260425T195214Z
URL:https://business.hendersonkychamber.com/events/details/re-open-henderson-let-s-talk-05-13-2020-572679
END:VEVENT

END:VCALENDAR
